BEGIN:VCALENDAR
VERSION:2.0
PRODID:-//wp-events-plugin.com//7.2.3.1//EN
TZID:America/New_York
X-WR-TIMEZONE:America/New_York
BEGIN:VEVENT
UID:209@breathemiami.us
DTSTART;TZID=America/New_York:20231211T183000
DTEND;TZID=America/New_York:20231211T203000
DTSTAMP:20240218T001601Z
URL:https://breathemiami.us/events/sound-healing-and-mantras-in-the-hammam
 -in-miami/
SUMMARY:Sound Healing and Mantras in the Hammam
DESCRIPTION:Event Information:\n\nModern ŌM graciously welcomes you to an 
 exquisite evening of sound and surrender\, nestled within the lavish embra
 ce of Tierra Santa Healing House's opulent hammam. This carefully curated 
 event invites you to immerse yourself in the transformative power of sound
 \, creating a sacred space for surrender and rejuvenation. As the harmonio
 us vibrations echo through the luxurious surroundings\, experience a profo
 und journey that transcends the ordinary and allows you to connect with th
 e deepest recesses of your being. Join us for an evening where the synergy
  of sound and surrender converges\, offering a sanctuary for relaxation\, 
 healing\, and inner exploration within the resplendent ambiance of Tierra 
 Santa Healing House's hammam.\n\nDate and Time: Monday\, December 11 · 6:
 30 - 8:30pm EST\n\nAbout this event:\n\nModern ŌM invites you to a transc
 endent evening of sound and surrender in the opulent surroundings of Tierr
 a Santa Healing House's luxurious hammam at Faena Hotel. Join Agustina Cam
 inos\, Faena's Spa Director\, for a monthly gathering designed to create a
 n intimate space for healing and presence through the harmonious fusion of
  sound healing and mantras.\n\nDuration: 2 hour\n\nTicket Information:\n\n
 Registration options: Early Bird or General Admission\n\nGET TICKETS\n\n\n
 Workout Session Details:\n\n 	6:15 to 6:30 pm: Arrival and Check-in at Tie
 rra Santa Healing House Spa on the 3rd Floor\n 	6:30 to 6:45 pm: Wardrobe 
 change to enter the Spa\n 	6:45 to 7:45 pm: Sound Healing + Surrender Expe
 rience in the Hammam\n 	7:45 to 8:30 pm: Enjoy a luxurious variety of Spa 
 amenities at your own leisure after the event\n\nEssentials to Bring:\n\n 
 	Swimsuit\n 	Open heart\n\nParking Options:\n\n 	alet parking at Faena Hot
 el\n 	Municipal lot 1 block north of Faena\n
ATTACH;FMTTYPE=image/jpeg:https://breathemiami.us/wp-content/uploads/2023/
 12/https___cdn.evbuc_.com_images_646717379_1145507310493_1_original.jpg
CATEGORIES:Wellness Events,Yoga Events
LOCATION:Faena Hotel\, 3201 Collins Avenue Miami Beach\, Miami Beach\, FL\,
  33140\, United States
X-APPLE-STRUCTURED-LOCATION;VALUE=URI;X-ADDRESS=3201 Collins Avenue Miami B
 each\, Miami Beach\, FL\, 33140\, United States;X-APPLE-RADIUS=100;X-TITLE
 =Faena Hotel:geo:0,0
END:VEVENT
BEGIN:VTIMEZONE
TZID:America/New_York
X-LIC-LOCATION:America/New_York
BEGIN:STANDARD
DTSTART:20231105T010000
TZOFFSETFROM:-0400
TZOFFSETTO:-0500
TZNAME:EST
END:STANDARD
END:VTIMEZONE
END:VCALENDAR