BEGIN:VCALENDAR
VERSION:2.0
PRODID:-//wp-events-plugin.com//7.2.3.1//EN
TZID:America/New_York
X-WR-TIMEZONE:America/New_York
BEGIN:VEVENT
UID:573@breathemiami.us
DTSTART;TZID=America/New_York:20240708T183000
DTEND;TZID=America/New_York:20240708T203000
DTSTAMP:20240623T214456Z
URL:https://breathemiami.us/events/sound-healing-and-mantras-in-the-hammam
 -2/
SUMMARY:Sound Healing and Mantras in the Hammam
DESCRIPTION:Embark on a journey of profound relaxation and healing with Mod
 ern ŌM and Faena Hotel at the luxurious Tierra Santa Healing House's ham
 mam. This monthly event offers a unique opportunity to immerse yourself in
  the soothing sounds of healing vibrations within a serene and intimate se
 tting.\n\nEvent Overview:\n\nJoin us for an evening designed to harmonize 
 mind\, body\, and spirit through the power of sound healing and mantras. L
 ed by Agustina Caminos\, Faena's Spa Director\, this experience is crafted
  to create a space of deep healing and presence.\n\nEvent Flow:\n\n 	6:15 
 to 6:30pm: Arrival and Check-in at Tierra Santa Healing House Spa on the 3
 rd Floor of Faena Hotel.\n 	6:30 to 6:45pm: Wardrobe change to enter the S
 pa area.\n 	6:45 to 7:45pm: Immerse yourself in the Sound Healing and Surr
 ender Experience in the Hammam. Allow the vibrations of healing sounds to 
 wash over you\, promoting relaxation and inner peace.\n 	7:45 to 8:30pm: E
 njoy a luxurious variety of Spa amenities at your own leisure after the ev
 ent. Indulge in the hammam's rejuvenating heat and additional spa faciliti
 es to further enhance your relaxation journey.\n\nWhat to Expect:\n\nDurin
 g the Sound Healing and Mantras in the Hammam event\, participants can exp
 ect:\n\n 	Intimate Setting: Experience the healing powers of sound and man
 tras in the tranquil ambiance of Tierra Santa Healing House's hammam.\n 	E
 xpert Guidance: Led by Agustina Caminos\, expect expert facilitation and a
  nurturing environment conducive to deep relaxation and healing.\n 	Healin
 g Vibrations: Engage in a transformative journey guided by the vibrations 
 of sound\, designed to release stress and promote holistic well-being.\n 	
 Luxurious Spa Amenities: Following the session\, take advantage of Faena H
 otel's spa amenities\, allowing you to unwind and extend your relaxation e
 xperience.\n\nWho Should Attend:\n\nThis event is perfect for anyone seeki
 ng to unwind\, release tension\, and restore balance in their lives. Wheth
 er you're new to sound healing or a seasoned enthusiast\, join us for an e
 vening dedicated to rejuvenation and inner peace.\n\nJoin Modern ŌM and 
 Faena Hotel for Sound Healing and Mantras in the Hammam. Reserve your spot
  today and immerse yourself in an evening of healing vibrations and luxuri
 ous relaxation. Discover the transformative power of sound in the serene s
 etting of Tierra Santa Healing House's hammam. We look forward to welcomin
 g you to this enriching experience!\n\nGET TICKETS\n
ATTACH;FMTTYPE=image/jpeg:https://breathemiami.us/wp-content/uploads/2024/
 06/Sound-Healing-and-Mantras-in-the-Hammam.jpg
CATEGORIES:Mindfulness Events,Wellness Events
LOCATION:Faena Hotel\, 3201 Collins Avenue\, Miami Beach\, FL\, 33140\, Uni
 ted States
X-APPLE-STRUCTURED-LOCATION;VALUE=URI;X-ADDRESS=3201 Collins Avenue\, Miami
  Beach\, FL\, 33140\, United States;X-APPLE-RADIUS=100;X-TITLE=Faena Hotel
 :geo:0,0
END:VEVENT
BEGIN:VTIMEZONE
TZID:America/New_York
X-LIC-LOCATION:America/New_York
BEGIN:DAYLIGHT
DTSTART:20240310T030000
TZOFFSETFROM:-0500
TZOFFSETTO:-0400
TZNAME:EDT
END:DAYLIGHT
END:VTIMEZONE
END:VCALENDAR