BEGIN:VCALENDAR
VERSION:2.0
PRODID:-//wp-events-plugin.com//7.2.3.1//EN
TZID:America/New_York
X-WR-TIMEZONE:America/New_York
BEGIN:VEVENT
UID:474@breathemiami.us
DTSTART;TZID=America/New_York:20240514T183000
DTEND;TZID=America/New_York:20240514T194500
DTSTAMP:20240504T182656Z
URL:https://breathemiami.us/events/sound-bath-hypnotic-healing/
SUMMARY:Sound Bath & Hypnotic Healing at Miami Beach with Nesli
DESCRIPTION:\nUnwind\, Rejuvenate\, and Reconnect: Sound Bath &amp\; Hypnot
 ic Healing with Nesli\nJoin Nesli for an unforgettable evening of relaxati
 on\, self-discovery\, and deep healing on the beautiful shores of Miami Be
 ach. This isn't just an event – it's a transformative journey guided by 
 the power of sound and hypnosis\, set against the backdrop of the ocean's 
 rhythm and Miami's natural beauty.\nImmerse Yourself in Healing Vibrations
 :\n\n\n 	Tranquil Beach Setting: Imagine yourself on the soft sand\, envel
 oped by the gentle waves and the calming scent of essential oils. A breath
 taking sunset paints the sky with soft colors\, creating a truly immersive
  experience.\n 	The Power of Sound Healing: As you lie comfortably\, Nesli
  will guide you through a soundscape of singing bowls and other instrument
 s. These harmonic frequencies work on a cellular level to melt away tensio
 n\, clear blockages\, and restore balance to your body's energy systems.\n
 \nExplore the Depths of Your Subconscious:\n\n\n 	Guided Hypnosis for Inne
 r Transformation: With Nesli's gentle guidance\, you'll enter a deeply rel
 axed state\, allowing access to your subconscious mind. This heightened st
 ate facilitates profound healing and personal insights. Release limiting b
 eliefs\, reduce stress\, and gain emotional clarity\, all under the vastne
 ss of the night sky.\n\nBenefits of Joining:\n\n\n 	Deep Relaxation: Leave
  the day's worries behind and enter a state of profound peace\, lulled by 
 the rhythm of the ocean and soothed by the sunset.\n 	Emotional Release: T
 he combined power of sound and hypnosis helps release emotional blockages\
 , fostering healing and well-being. Let the vastness of the ocean inspire 
 you as you embrace new possibilities.\n 	Spiritual Connection: Connect wit
 h your inner self on a deeper level\, enhancing mindfulness and spiritual 
 awareness within the natural harmony of the beach.\n 	Supportive Community
 : Become part of a like-minded community seeking personal growth and well-
 being. Share this unique experience and connect with others in a supportiv
 e environment.\n\nImportant Details:\n\n\n 	Location: 72nd Street Lifeguar
 d Tower\, Miami Beach\n 	What to Bring: Mat or towel\, blanket for warmth 
 (optional)\, and comfortable clothing. It's recommended to avoid heavy mea
 ls before the event.\n\nReady to Join?\nSpace is limited to ensure a perso
 nalized experience. Reserve your spot for Nesli's Sound Bath &amp\; Hypnot
 ic Healing event at link to eventbrite here: https://www.eventbrite.com/e/
 sound-bath-hypnotic-healing-at-miami-beach-with-nesli-tickets-867937312867
 .\nAdditional Information:\n\n\n 	Text or call Nesli with questions or to 
 inquire about private sessions: 646-494-2866\n\nEmbrace the Healing Power 
 of Sound and Hypnosis by the Ocean:\nDon't miss this unique opportunity to
  unwind\, reconnect with yourself\, and unlock your inner potential. Join 
 Nesli for an evening of transformation and well-being under the Miami sky.
 \nWarmly\,\nNesli\n\n\n\nBUY TICKETS\n
ATTACH;FMTTYPE=image/jpeg:https://breathemiami.us/wp-content/uploads/2024/
 05/https___cdn.evbuc_.com_images_728015729_218236760054_1_original.jpeg
CATEGORIES:Wellness Events
LOCATION:72nd Street Lifeguard Tower\, 72nd Street Lifeguard Tower\, Miami 
 Beach\, Florida\, 33141\, United States
X-APPLE-STRUCTURED-LOCATION;VALUE=URI;X-ADDRESS=72nd Street Lifeguard Tower
 \, Miami Beach\, Florida\, 33141\, United States;X-APPLE-RADIUS=100;X-TITL
 E=72nd Street Lifeguard Tower:geo:0,0
END:VEVENT
BEGIN:VTIMEZONE
TZID:America/New_York
X-LIC-LOCATION:America/New_York
BEGIN:DAYLIGHT
DTSTART:20240310T030000
TZOFFSETFROM:-0500
TZOFFSETTO:-0400
TZNAME:EDT
END:DAYLIGHT
END:VTIMEZONE
END:VCALENDAR