BEGIN:VCALENDAR
VERSION:2.0
PRODID:-//wp-events-plugin.com//7.2.3.1//EN
TZID:America/New_York
X-WR-TIMEZONE:America/New_York
BEGIN:VEVENT
UID:539@breathemiami.us
DTSTART;TZID=America/New_York:20240622T190000
DTEND;TZID=America/New_York:20240622T200000
DTSTAMP:20240609T031155Z
URL:https://breathemiami.us/events/soulgasm-a-tantric-experience/
SUMMARY:Soulgasm: A Tantric Experience
DESCRIPTION:Embark on a soulful journey with Soulgasm\, a tantric experienc
 e designed for singles and couples seeking deeper love\, intimacy\, and co
 nnection in their lives. This session introduces a unique technique aimed 
 at rekindling your most powerful\, creative\, and healing energy\, known a
 s kundalini.\nReconnect with Your Inner Power\nLed by experienced guides\,
  participants will explore practices to awaken and channel kundalini energ
 y\, fostering a profound sense of connection with oneself and others. Thro
 ugh tantric rituals and techniques\, you'll tap into the depths of your be
 ing\, unlocking inner wisdom and vitality.\nEmbrace Love and Intimacy\nSou
 lgasm offers a safe and nurturing space for individuals and couples to exp
 lore their desires\, express their authentic selves\, and cultivate deeper
  connections. Whether you're seeking to enhance intimacy in your relations
 hips or reconnect with your own inner essence\, thihttps://www.eventbrite.
 com/e/soulgasm-a-tantric-experience-tickets-904388479287?aff=ebdssbdestsea
 rchs experience invites you to embrace love and intimacy on a profound lev
 el.\nDiscover Kundalini Energy\nKundalini energy is the primal life force 
 that resides within each of us\, representing our potential for transforma
 tion and spiritual growth. Through tantric practices\, you'll learn to har
 ness this potent energy to awaken passion\, creativity\, and healing.\nOpe
 n Your Heart and Soul\nJoin us for Soulgasm and open yourself to a journey
  of self-discovery\, love\, and profound connection. Whether you come alon
 e or with a partner\, this experience promises to ignite your soul and awa
 ken your true potential.\n\nDon't miss this opportunity to dive deep into 
 the realms of tantra and unlock the secrets of your soul's awakening. Join
  us and experience Soulgasm today!\n\nGET TICKETS\n
ATTACH;FMTTYPE=image/jpeg:https://breathemiami.us/wp-content/uploads/2024/
 06/Soulgasm-A-Tantric-Experience.jpg
CATEGORIES:Mindfulness Events,Wellness Events
LOCATION:The Standard Spa\, 40 Island Avenue Miami Beach\, Miami\, Florida\
 , 33139\,  FL \, United States
X-APPLE-STRUCTURED-LOCATION;VALUE=URI;X-ADDRESS=40 Island Avenue Miami Beac
 h\, Miami\, Florida\, 33139\,  FL \, United States;X-APPLE-RADIUS=100;X-TI
 TLE=The Standard Spa:geo:0,0
END:VEVENT
BEGIN:VTIMEZONE
TZID:America/New_York
X-LIC-LOCATION:America/New_York
BEGIN:DAYLIGHT
DTSTART:20240310T030000
TZOFFSETFROM:-0500
TZOFFSETTO:-0400
TZNAME:EDT
END:DAYLIGHT
END:VTIMEZONE
END:VCALENDAR