BEGIN:VCALENDAR
VERSION:2.0
PRODID:-//wp-events-plugin.com//7.2.3.1//EN
TZID:America/New_York
X-WR-TIMEZONE:America/New_York
BEGIN:VEVENT
UID:971@breathemiami.us
DTSTART;TZID=America/New_York:20241024T170000
DTEND;TZID=America/New_York:20241024T183000
DTSTAMP:20241003T025130Z
URL:https://breathemiami.us/events/soul-brew-healing-conversations-over-te
 a/
SUMMARY:Soul Brew - Healing Conversations over Tea
DESCRIPTION:Soul Brew - Healing Conversations over Tea invites individuals 
 to embark on a journey of connection and healing. Hosted by Rae\, a compas
 sionate guide specializing in Reiki Hypnotherapy\, this gathering aims to 
 help participants release energy blocks and discover inner peace. With ove
 r ten years of dedicated service to the community\, Rae understands the pr
 ofound impact that communal healing can have on individuals.\n\nRecognizin
 g that some of the most significant healing occurs within a supportive com
 munity\, Rae is passionate about bringing people together to share their h
 ealing journeys. While the idea of being vulnerable with strangers can be 
 intimidating\, she emphasizes that the process can be incredibly transform
 ative. Rae has facilitated numerous one-on-one healing sessions and group 
 workshops\, leaving each experience enriched with new connections and a de
 ep sense of fulfillment.\n\nThe Soul Brew gatherings offer a unique opport
 unity for attendees to engage in heartfelt conversations over a comforting
  cup of tea. Each session is designed to foster authentic connections amon
 g participants who share a mutual desire for personal growth and understan
 ding.\n\nHeld in small\, intimate settings limited to just six people\, th
 ese gatherings ensure a safe space for participants to show up as they are
 . Tea and light snacks will be provided to create a warm and inviting atmo
 sphere.\n\nFor those who resonate with Rae’s message\, there’s a speci
 al offer: use promo code "FREE" to join the gathering at no cost.\n\nAfter
  booking\, attendees will receive the exact location for the event. Rae en
 courages anyone interested to follow her on Instagram @positiveliferituals
  and send a message to connect further.\n\nJoin Soul Brew for a transforma
 tive experience of healing and connection\, and take the next step on your
  journey toward inner peace.\n\nGET TICKETS\n
ATTACH;FMTTYPE=image/jpeg:https://breathemiami.us/wp-content/uploads/2024/
 10/Soul-Brew-Healing-Conversations-over-Tea.jpg
LOCATION:Redondo Beach (Private Address sent after booking)\, 655 North Har
 bor Drive\, Redondo Beach\, California\, 90277\, CA\, United States
X-APPLE-STRUCTURED-LOCATION;VALUE=URI;X-ADDRESS=655 North Harbor Drive\, Re
 dondo Beach\, California\, 90277\, CA\, United States;X-APPLE-RADIUS=100;X
 -TITLE=Redondo Beach (Private Address sent after booking):geo:0,0
END:VEVENT
BEGIN:VTIMEZONE
TZID:America/New_York
X-LIC-LOCATION:America/New_York
BEGIN:DAYLIGHT
DTSTART:20240310T030000
TZOFFSETFROM:-0500
TZOFFSETTO:-0400
TZNAME:EDT
END:DAYLIGHT
END:VTIMEZONE
END:VCALENDAR