BEGIN:VCALENDAR
VERSION:2.0
PRODID:-//wp-events-plugin.com//7.2.3.1//EN
TZID:America/New_York
X-WR-TIMEZONE:America/New_York
BEGIN:VEVENT
UID:654@breathemiami.us
DTSTART;TZID=America/New_York:20240810T170000
DTEND;TZID=America/New_York:20240810T230000
DTSTAMP:20240803T052406Z
URL:https://breathemiami.us/events/solar-return-ritual-celebration/
SUMMARY:Solar Return Ritual + Celebration
DESCRIPTION:Celebrate a transformative solar birthday gathering in honor of
  Tony Cho and Sean Drake!\nEvent Details\n\n 	Date: Saturday\, August 10\n
  	Time: 5:00 PM - 11:00 PM EST\n 	Location: Climate &amp\; Innovation HUB 
 powered by Future of Cities\, 228 NE 59th Street Miami\, Little Haiti (@th
 ehubmia x @focities)\n\nEvent Highlights\n\n 	Ritual Luminaries:\n\n 	Emce
 e &amp\; Altar Priestess: Sylvia Benito | @sylvia__benito\n 	Prayers &amp\
 ; Ritual: Giselle World | @giselle.world\n 	Sound Healing: Grounded Grayce
  | @groundedgrayce\n\n\n 	Musical Journey &amp\; Live DJ Sets:\n\n 	LEMURI
 AN | @lemurian\n 	Sean Drake | @seandrake\n\n\n 	Solar Return Astrology:\n
 \n 	Vanessa Avila\, ChoZen Resident Astrologer | @astromezcal\n\n\n\nTicke
 t Information\n\n 	Price: $44\n 	Secure Your Spot: Join us for an unforget
 table evening of ritual\, connection\, celebration\, and transformation. B
 e part of this unique solar return ritual and celebration!\n\nExperience a
  night of spiritual awakening and joyous festivities as we honor the solar
  return of Tony Cho and Sean Drake. Engage in transformative rituals led b
 y Sylvia Benito and Giselle World\, and immerse yourself in soothing sound
  healing with Grounded Grayce. Dance to live DJ sets from LEMURIAN and Sea
 n Drake\, and gain astrological insights from Vanessa Avila.\n\nDon't miss
  out on this extraordinary celebration!\n\nGET TICKETS\n
ATTACH;FMTTYPE=image/jpeg:https://breathemiami.us/wp-content/uploads/2024/
 08/Solar-Return-Ritual-Celebration.jpg
CATEGORIES:Mindfulness Events,Things To Do,Wellness Events
LOCATION:Future of Cities Climate and Innovation HUB\, 228 Northeast 59th S
 treet Miami\, Miami\, Florida\, 33137 \, FL\, United States
X-APPLE-STRUCTURED-LOCATION;VALUE=URI;X-ADDRESS=228 Northeast 59th Street M
 iami\, Miami\, Florida\, 33137 \, FL\, United States;X-APPLE-RADIUS=100;X-
 TITLE=Future of Cities Climate and Innovation HUB:geo:0,0
END:VEVENT
BEGIN:VTIMEZONE
TZID:America/New_York
X-LIC-LOCATION:America/New_York
BEGIN:DAYLIGHT
DTSTART:20240310T030000
TZOFFSETFROM:-0500
TZOFFSETTO:-0400
TZNAME:EDT
END:DAYLIGHT
END:VTIMEZONE
END:VCALENDAR