BEGIN:VCALENDAR
VERSION:2.0
PRODID:-//wp-events-plugin.com//7.2.3.1//EN
TZID:America/New_York
X-WR-TIMEZONE:America/New_York
BEGIN:VEVENT
UID:976@breathemiami.us
DTSTART;TZID=America/New_York:20241027T100000
DTEND;TZID=America/New_York:20241027T160000
DTSTAMP:20241003T094855Z
URL:https://breathemiami.us/events/sola-miami-crazy-bottomless-brunch-part
 y-with-2-for-1-bottomless-mimosas/
SUMMARY:SOLA Miami Crazy Bottomless Brunch Party with 2 for 1 Bottomless Mi
 mosas!
DESCRIPTION:The SOLA Miami Crazy Bottomless Brunch Party offers an exciting
  and vibrant Sunday brunch experience in the heart of South Beach. Running
  every Sunday through October 31st\, this brunch event features a special 
 2 for 1 Bottomless Mimosas offer for only $35\, making it the perfect oppo
 rtunity to gather with friends for a lively and unforgettable day.\n\nGues
 ts can enjoy an energetic atmosphere with a live DJ spinning the hottest t
 racks and exhilarating live dance shows. With non-stop party vibes\, delic
 ious food\, tropical drinks\, and unbeatable entertainment\, SOLA Miami cr
 eates a fun and engaging environment to relax and enjoy the weekend.\n\nTo
  claim the exclusive mimosa deal\, attendees must reserve their spot on Ev
 entbrite with a $20 per person deposit that applies to food and beverages 
 during brunch. Seating times are available at 11 AM\, 12 PM\, 1 PM\, and 2
  PM\, with plenty of flexibility to accommodate groups of all sizes. While
  tickets are non-refundable\, early reservations ensure guests secure a sp
 ot for this limited-time offer.\n\nDetails:\n\n 	Dates: Every Sunday until
  October 31st\n 	Time: Brunch party runs from 10 AM to 4 PM\n 	Offer: 2 fo
 r 1 Bottomless Mimosas for $35\n 	Location: SOLA Miami Restaurant &amp\; B
 ar\, South Beach\n 	Deposit: $20 per person (applied to food and drink)\n\
 nWhether celebrating a special occasion or simply looking to enjoy the per
 fect Sunday brunch\, the Crazy Bottomless Brunch Party at SOLA Miami is th
 e go-to spot for fun\, food\, and entertainment. Book your table now and g
 et ready to sip\, dance\, and enjoy an epic brunch experience!\n\nGET TICK
 ETS\n
ATTACH;FMTTYPE=image/jpeg:https://breathemiami.us/wp-content/uploads/2024/
 10/SOLA-Miami-Crazy-Bottomless-Brunch-Party-with-2-for-1-Bottomless-Mimosa
 s.jpg
CATEGORIES:Food &amp; Drink Events
LOCATION:Sola Miami Beach\, 1000 Collins Avenue \, Miami Beach\, Florida\, 
 33139\, FL\, United States
X-APPLE-STRUCTURED-LOCATION;VALUE=URI;X-ADDRESS=1000 Collins Avenue \, Miam
 i Beach\, Florida\, 33139\, FL\, United States;X-APPLE-RADIUS=100;X-TITLE=
 Sola Miami Beach:geo:0,0
END:VEVENT
BEGIN:VTIMEZONE
TZID:America/New_York
X-LIC-LOCATION:America/New_York
BEGIN:DAYLIGHT
DTSTART:20240310T030000
TZOFFSETFROM:-0500
TZOFFSETTO:-0400
TZNAME:EDT
END:DAYLIGHT
END:VTIMEZONE
END:VCALENDAR