BEGIN:VCALENDAR
VERSION:2.0
PRODID:-//wp-events-plugin.com//7.2.3.1//EN
TZID:America/New_York
X-WR-TIMEZONE:America/New_York
BEGIN:VEVENT
UID:1031@breathemiami.us
DTSTART;TZID=America/New_York:20241107T193000
DTEND;TZID=America/New_York:20241107T233000
DTSTAMP:20241010T152114Z
URL:https://breathemiami.us/events/sobremesa-reservada-joy/
SUMMARY:Sobremesa Reservada - JOY
DESCRIPTION:Participa en una velada única de conexión y reflexión con So
 bremesa Reservada - JOY\, un espacio dedicado a explorar y compartir tus h
 istorias de gozo en un ambiente acogedor y seguro. Este evento\, diseñado
  para fomentar la introspección y el autoconocimiento\, te invita a profu
 ndizar en tu ser mientras te conectas con tu cuerpo y tus emociones.\n\nGu
 iado por coaches especializadas en facilitar conversaciones sensibles\, So
 bremesa Reservada - JOY ofrece un entorno libre de juicios donde cada part
 icipante puede expresarse con total confidencialidad. Es un momento para e
 scuchar\, compartir\, aprender y practicar habilidades de autoconocimiento
 \, todo mientras se construye una red de apoyo entre personas que buscan u
 n crecimiento personal genuino.\n\nQué Puedes Esperar:\n\n 	Un espacio de
  reflexión profunda sobre tus historias personales de alegría.\n 	Conexi
 ón emocional y física con tu ser interior\, en un ambiente seguro y de c
 onfianza.\n 	Participación guiada por coaches profesionales\, entrenadas 
 para crear un ambiente de diálogo sensible y sin juicios.\n 	Oportunidade
 s para compartir experiencias\, escuchar a los demás y aprender herramien
 tas prácticas para la autoexploración y el crecimiento personal.\n\nEste
  evento está pensado para quienes desean no solo reflexionar sobre sus pr
 opias vivencias\, sino también aprender de los demás en un ambiente de a
 poyo mutuo y confidencialidad. Sobremesa Reservada - JOY es más que un si
 mple encuentro: es una oportunidad para crecer\, conectar y celebrar la al
 egría en sus diversas formas.\n\nGET TICKETS\n
ATTACH;FMTTYPE=image/jpeg:https://breathemiami.us/wp-content/uploads/2024/
 10/Sobremesa-Reservada-JOY.jpg
CATEGORIES:Wellness Events
LOCATION:The City of Doral\, Doral\, Miami\, Florida\, 33172\, FL\, United 
 States
X-APPLE-STRUCTURED-LOCATION;VALUE=URI;X-ADDRESS=Doral\, Miami\, Florida\, 3
 3172\, FL\, United States;X-APPLE-RADIUS=100;X-TITLE=The City of Doral:geo
 :0,0
END:VEVENT
BEGIN:VTIMEZONE
TZID:America/New_York
X-LIC-LOCATION:America/New_York
BEGIN:STANDARD
DTSTART:20241103T010000
TZOFFSETFROM:-0400
TZOFFSETTO:-0500
TZNAME:EST
END:STANDARD
END:VTIMEZONE
END:VCALENDAR