BEGIN:VCALENDAR
VERSION:2.0
PRODID:-//wp-events-plugin.com//7.2.3.1//EN
TZID:America/New_York
X-WR-TIMEZONE:America/New_York
BEGIN:VEVENT
UID:1212@breathemiami.us
DTSTART;TZID=America/New_York:20241213T200000
DTEND;TZID=America/New_York:20241213T234500
DTSTAMP:20241213T201246Z
URL:https://breathemiami.us/events/snow-raven-kut-sur/
SUMMARY:Snow Raven (Kut-Sür)
DESCRIPTION:KUT-SÜR - Arctic Siberian Ceremony with Snow Raven\n\nStep int
 o an enchanting ceremonial sound journey with Snow Raven at The Masonic Te
 mple. Experience the magic as she weaves ancient Arctic Siberian tradition
 s into an immersive auditory adventure. Let the sounds transport you to a 
 realm of profound connection and wonder.\n\n\n\n&nbsp\;\n\n&nbsp\;\n\nAbou
 t This Event\nDuration: 4 hours\n✨ Date &amp\; Time: December 13 · 8:00
  PM - December 14 · 12:00 AM EST\n📍 Location: Proyecto Tulum\n437 Sout
 hwest 2nd Street\, Miami\, FL 33130\, United States\n\nEmbark on a 4-hour 
 journey of sound\, spirit\, and connection as Snow Raven guides you throug
 h the mystical traditions of the Arctic Siberian KUT-SÜR ceremony. This i
 mmersive experience will blend ancient rituals with ethereal melodies\, cr
 eating a transformative space where time seems to stand still.\n\nSet agai
 nst the stunning backdrop of Proyecto Tulum\, this event is designed to tr
 ansport you to another world\, evoking the serene yet powerful energy of t
 he Arctic. Whether you're seeking inspiration\, introspection\, or simply 
 a unique cultural experience\, this 4-hour ceremonial journey promises to 
 leave you profoundly moved and rejuvenated.\n\n🌟 Spaces are limited—s
 ecure your ticket today!
ATTACH;FMTTYPE=image/jpeg:https://breathemiami.us/wp-content/uploads/2024/
 12/https___cdn.evbuc_.com_images_850045529_497034509171_1_original-1.jpeg
CATEGORIES:Featured Events,Mindfulness Events,Things To Do,Wellness Events
LOCATION:Proyecto Tulum\, 437 Southwest 2nd Street\, Miami\, Fl\, 33130\, U
 nited States
X-APPLE-STRUCTURED-LOCATION;VALUE=URI;X-ADDRESS=437 Southwest 2nd Street\, 
 Miami\, Fl\, 33130\, United States;X-APPLE-RADIUS=100;X-TITLE=Proyecto Tul
 um:geo:0,0
END:VEVENT
BEGIN:VTIMEZONE
TZID:America/New_York
X-LIC-LOCATION:America/New_York
BEGIN:STANDARD
DTSTART:20241103T010000
TZOFFSETFROM:-0400
TZOFFSETTO:-0500
TZNAME:EST
END:STANDARD
END:VTIMEZONE
END:VCALENDAR