BEGIN:VCALENDAR
VERSION:2.0
PRODID:-//wp-events-plugin.com//7.2.3.1//EN
TZID:America/New_York
X-WR-TIMEZONE:America/New_York
BEGIN:VEVENT
UID:1121@breathemiami.us
DTSTART;TZID=America/New_York:20241212T200000
DTEND;TZID=America/New_York:20241213T000000
DTSTAMP:20241020T070525Z
URL:https://breathemiami.us/events/snow-raven-kut-sur-arctic-siberian-cere
 mony/
SUMMARY:Snow Raven (Kut-Sür): Arctic Siberian Ceremony
DESCRIPTION:Kut-Sür: Arctic Siberian Ceremony with Snow Raven\n\nThe Kut-S
 ür ceremony\, led by Snow Raven\, offers an immersive and transformative 
 journey through the Arctic Siberian tradition. Snow Raven\, a musical and 
 spiritual guide from the Sakha Republic\, weaves her ancient songs with th
 e sounds of birds and animals to lead participants through the three realm
 s of existence in Sakha belief: the Upper (gods and deities)\, the Middle 
 (humans\, animals\, plants)\, and the Lower (negative aspects of life). Th
 is ceremonial experience\, deeply rooted in Aiyy\, the Sakha faith\, helps
  individuals reconnect with their soul\, "Kut\," through the vibration and
  energy of life\, known as "Sür."\n\nThe human soul in Sakha tradition is
  believed to have three parts:\n\n 	Iie Kut (Mother Soul)\n 	Buor Kut (Ear
 th Soul)\n 	Salgyn Kut (Air Soul)\n\nWhen these elements are in harmony\, 
 one experiences well-being\, but an imbalance can lead to illness. In this
  sacred ceremony\, Snow Raven will guide participants in restoring this ba
 lance\, using traditional Sakha music and movement to support healing and 
 connection.\nCeremony Structure:\n\n 	Salgyn Kut (Air Soul) – Inward Jou
 rney\nThe ceremony begins with an exploration of the inner self. Guided by
  sound\, participants will travel within\, encountering their emotions\, t
 houghts\, and hidden parts of their psyche. This phase encourages introspe
 ction\, peeling back the layers of one's being to reveal true inner landsc
 apes.\n 	Iie Kut (Mother Soul) – Ancestral Connection\nIn this phase\, t
 he journey turns outward toward the ancestral realm. Participants are invi
 ted to reconnect with primal instincts and the sounds of nature\, revisiti
 ng the metaphoric womb of creation. Snow Raven leads them through a cathar
 tic release\, opening pathways to their genetic heritage and deep-seated a
 ncestral wisdom. This section focuses on healing through the sounds of bir
 ds\, animals\, and traditional Sakha singing.\n 	Buor Kut (Earth Soul) –
  Grounding and Integration\nThe final stage brings participants back into 
 their bodies and the physical world\, grounded in the Earth. Through breat
 hing exercises\, dance\, and group chanting\, the insights and healing fro
 m the earlier phases are integrated. This phase helps participants transla
 te their inner discoveries into practical actions\, creating space for emp
 owerment and self-awareness.\n\nWho Would Benefit from This Experience:\n\
 n 	Seekers of Personal Growth: Ideal for those on a journey of self-discov
 ery\, the ceremony offers deep healing and inner exploration.\n 	Spiritual
  Enthusiasts: People interested in shamanic practices and ancestral connec
 tions will find this experience deeply enriching.\n 	Music and Art Lovers:
  The ceremony fuses traditional singing\, Arctic beatboxing\, drumming\, a
 nd sound healing\, creating a multi-sensory artistic experience.\n 	Commun
 ity Builders: Those who wish to connect with like-minded individuals in a 
 shared spiritual and artistic journey will find this an opportunity for me
 aningful connection.\n\nWhy Attend:\n\n 	Cultural Enrichment: Experience a
 n authentic Arctic Siberian ceremony led by Snow Raven\, who brings her Sa
 kha heritage to life.\n 	Personal Growth and Healing: Participate in a tra
 nsformative process designed to bring balance to the soul and foster deep 
 personal insight.\n 	Unique Artistic Experience: Enjoy an extraordinary mi
 x of traditional Sakha music\, Arctic beatboxing\, and sound healing in a 
 ceremonial setting.\n 	Community and Connection: Be part of a group that s
 hares in collective rituals\, creating unity and a shared sense of purpose
 .\n\nWhat to Bring:\n\n 	Attire: Participants are encouraged to wear cloth
 ing that represents their spirit animal or ancestral heritage\, fostering 
 a deeper connection to the ceremonial experience.\n 	Talisman: Bring a mea
 ningful object (like jewelry or a crystal) to serve as an anchor during th
 e ceremony.\n 	Comfort: A yoga mat\, cushion\, and blanket will provide co
 mfort during the various activities.\n\nImportant Guidelines:\n\n 	Respect
  the Space: Refrain from smoking\, using substances\, or wearing heavy fra
 grances to maintain a respectful atmosphere.\n 	Filming and Devices: While
  parts of the ceremony will be recorded\, participants are asked to keep p
 hones off and avoid taking photos to remain fully present.\n\nThis is more
  than just a ceremony\; it’s an invitation to connect with oneself\, anc
 estors\, and the broader community in a profound way. The event symbolizes
  collective growth and a journey towards greater unity and personal discov
 ery.\nAbout Snow Raven:\nSnow Raven (Suor)\, born in the Sakha Republic (Y
 akutia) in one of the coldest inhabited places on Earth\, began communicat
 ing with the language of birds and animals at just three years old. Her vo
 ice is an instrument that draws deeply from the traditions of her people. 
 She is recognized as the pioneer of “Arctic beatboxing\,” famously kno
 wn for her reindeer breath technique\, and is the founder of the OLOX ecos
 ystem.\n\nSnow Raven has headlined prestigious festivals\, including Burni
 ng Man and Lightning in a Bottle\, and performed at America’s Got Talent
  2020. Her work has been featured at major cultural and environmental even
 ts such as TEDx\, the Bioneers Eco Conference\, and the Arctic Circle Foru
 m. Snow Raven continues to share her message of unity\, ancestral wisdom\,
  and the importance of preserving indigenous cultures through her performa
 nces worldwide.\n\n\n\nThis expanded version provides a thorough descripti
 on of the ceremonial process and enriches the reader's understanding of th
 e experience.\n\nGET TICKETS\n
ATTACH;FMTTYPE=image/jpeg:https://breathemiami.us/wp-content/uploads/2024/
 10/Snow-Raven-Kut-Sur.jpg
CATEGORIES:Wellness Events
LOCATION:Scottish Rite Temple\, 471 Northwest 3rd Street Miami\, Miami\, Fl
 orida\, 33128\,  FL \, United States
X-APPLE-STRUCTURED-LOCATION;VALUE=URI;X-ADDRESS=471 Northwest 3rd Street Mi
 ami\, Miami\, Florida\, 33128\,  FL \, United States;X-APPLE-RADIUS=100;X-
 TITLE=Scottish Rite Temple:geo:0,0
END:VEVENT
BEGIN:VTIMEZONE
TZID:America/New_York
X-LIC-LOCATION:America/New_York
BEGIN:STANDARD
DTSTART:20241103T010000
TZOFFSETFROM:-0400
TZOFFSETTO:-0500
TZNAME:EST
END:STANDARD
END:VTIMEZONE
END:VCALENDAR