BEGIN:VCALENDAR
VERSION:2.0
PRODID:-//wp-events-plugin.com//7.2.3.1//EN
TZID:America/New_York
X-WR-TIMEZONE:America/New_York
BEGIN:VEVENT
UID:307@breathemiami.us
DTSTART;TZID=America/New_York:20240120T110000
DTEND;TZID=America/New_York:20240120T140000
DTSTAMP:20240313T002211Z
URL:https://breathemiami.us/events/sisters-in-self-care-brunch/
SUMMARY:Sisters In Self-Care Brunch
DESCRIPTION:Event Information:\n\n\n\n\n\n\n\n\n\n\n\n\n\nEmbark on a trans
 formative journey of self-care and wellness by joining us at the empowerin
 g Sisters In Self-Care Brunch. This event is designed to celebrate and upl
 ift women\, providing a space for connection and rejuvenation. For those i
 nterested in becoming a vendor and securing your spot\, please reach out t
 o us at info@kristagenelle.com. We look forward to creating a nourishing a
 nd empowering experience together!"\n\n\n\n\n\n\n\n\n\n\n\n\n\nDate and Ti
 me:Saturday\, January 20\, 2024 · 11am - 2pm EST\n\nAbout this event:\n\n
  	Indulge in the ultimate self-care experience at the Sisters In Self-Care
  Brunch! This empowering event\, scheduled for Saturday\, January 20\, 202
 4\, from 11:00 AM to 2:00 PM EST at the Urban Construction Craft Academy C
 ourtyard\, is a celebration of women and their journey towards wellness an
 d empowerment.Connect with like-minded women\, enjoy a delectable brunch s
 pread\, and be inspired by the personal stories\, tips\, and tricks shared
  by the My Workshop team. Whether you're seeking wellness advice\, health 
 tips\, or simply a day to unwind\, this event is designed for all women wh
 o prioritize self-care.Mark your calendars for a day filled with laughter\
 , inspiration\, and rejuvenation. Don't miss out on this opportunity to pr
 ioritize yourself and connect with incredible women on the same journey at
  the Sisters In Self-Care Brunch!\n\nDuration: 3 hour\n\nTicket Informatio
 n:\n\n 	Mobile eTicket available\n 	Contact the organizer for refund reque
 sts\n 	Eventbrite's fee is nonrefundable\n\n\nGET TICKETS\n\n\nWorkout Ses
 sion Details:\n\n 	No specific workout session details mentioned. The even
 t focuses on self-care\, empowerment\, and wellness.\n\nEssentials to Brin
 g:\n\n 	No specific items mentioned. Participants are encouraged to bring 
 an open mind and a willingness to embrace self-care and empowerment.\n\nPa
 rking Options:\n\n 	Parking details are not explicitly mentioned. Attendee
 s are encouraged to check with the venue or explore nearby parking options
 .\n
ATTACH;FMTTYPE=image/jpeg:https://breathemiami.us/wp-content/uploads/2023/
 12/https___cdn.evbuc_.com_images_654523849_102887098265_1_original.jpg
CATEGORIES:Wellness Events
LOCATION:The Urban Construction Craft Academy Courtyard\, 2780 Northwest 87
 th Street Miami\,\, Miami\, United States\, 33147\,  FL \, United States
X-APPLE-STRUCTURED-LOCATION;VALUE=URI;X-ADDRESS=2780 Northwest 87th Street 
 Miami\,\, Miami\, United States\, 33147\,  FL \, United States;X-APPLE-RAD
 IUS=100;X-TITLE=The Urban Construction Craft Academy Courtyard:geo:0,0
END:VEVENT
BEGIN:VTIMEZONE
TZID:America/New_York
X-LIC-LOCATION:America/New_York
BEGIN:STANDARD
DTSTART:20231105T010000
TZOFFSETFROM:-0400
TZOFFSETTO:-0500
TZNAME:EST
END:STANDARD
END:VTIMEZONE
END:VCALENDAR