BEGIN:VCALENDAR
VERSION:2.0
PRODID:-//wp-events-plugin.com//7.2.3.1//EN
TZID:America/New_York
X-WR-TIMEZONE:America/New_York
BEGIN:VEVENT
UID:1336@breathemiami.us
DTSTART;TZID=America/New_York:20251115T100000
DTEND;TZID=America/New_York:20251115T113000
DTSTAMP:20251007T154905Z
URL:https://breathemiami.us/events/silent-disco-body-sculpt-2/
SUMMARY:Silent Disco Body Sculpt
DESCRIPTION:Silent Disco Body Sculpt\nImmerse yourself in a full-body sessi
 on that combines bodyweight exercises\, guided flow\, and immersive light 
 and sound. Designed to energize and refresh\, you’ll strengthen\, stretc
 h\, and connect.\n\nA transformative Saturday mornings wellness series whe
 re sound\, movement\, and community collide.\n\nStep into a fully immersiv
 e wellness experience at ARTXSPACE in Wynwood — combining movement\, b
 reath\, sound\, and art.\n\nComplimentary mats provided — just bring you
 r glow and good energy\n\n&nbsp\;\nRecommended for ages 12+. All events ar
 e beginner-friendly and solo-attendee welcoming.
ATTACH;FMTTYPE=image/jpeg:https://breathemiami.us/wp-content/uploads/2025/
 09/szzxosy3yiiynhlbyyl7.jpg
CATEGORIES:Mindfulness Events,Sports &amp; Fitness Events,Things To
 Do,Wellness Events,Yoga Events
LOCATION:ARTXSPACE\, 301 NW 28th St\, Miami\, Florida\, 33127\, FL\, United
  States
X-APPLE-STRUCTURED-LOCATION;VALUE=URI;X-ADDRESS=301 NW 28th St\, Miami\, Fl
 orida\, 33127\, FL\, United States;X-APPLE-RADIUS=100;X-TITLE=ARTXSPACE:ge
 o:0,0
END:VEVENT
BEGIN:VTIMEZONE
TZID:America/New_York
X-LIC-LOCATION:America/New_York
BEGIN:STANDARD
DTSTART:20251102T010000
TZOFFSETFROM:-0400
TZOFFSETTO:-0500
TZNAME:EST
END:STANDARD
END:VTIMEZONE
END:VCALENDAR