BEGIN:VCALENDAR
VERSION:2.0
PRODID:-//wp-events-plugin.com//7.2.3.1//EN
TZID:America/New_York
X-WR-TIMEZONE:America/New_York
BEGIN:VEVENT
UID:780@breathemiami.us
DTSTART;TZID=America/New_York:20240919T183000
DTEND;TZID=America/New_York:20240919T203000
DTSTAMP:20240825T123909Z
URL:https://breathemiami.us/events/shibori-indigo-dying-workshop/
SUMMARY:Shibori & Indigo Dying Workshop
DESCRIPTION:Immerse yourself in the enchanting world of indigo dyeing and d
 eepen your connection with natural fibers in this hands-on workshop presen
 ted in collaboration with the Fiber Artists Miami Association (FAMA). This
  unique experience will guide you through the art and science of indigo dy
 eing\, including the intricate techniques of Kumo ("spider") Shibori and A
 rashi Shibori.\n\nWorkshop Highlights:\n\n 	Explore Indigo Dyeing: Discove
 r the rich heritage and transformative beauty of indigo as you learn to pr
 epare fibers and create stunning patterns. Indigo dyeing is a meditative p
 rocess\, celebrated for its slow and unpredictable outcomes\, which highli
 ght the charm of imperfections.\n 	Master Shibori Techniques: Delve into t
 he art of Shibori with instruction in Kumo Shibori\, known for its spider-
 like patterns\, and Arashi Shibori\, which produces striking\, storm-like 
 effects. Each technique offers its own unique approach to fabric manipulat
 ion and dyeing.\n 	Hands-On Learning: Engage in the process of preparing f
 ibers\, understanding the chemistry of an indigo vat\, and applying Shibor
 i techniques to create two distinctive indigo-dyed pieces of artwork.\n 	C
 omfort and Convenience: The workshop will include both indoor and outdoor 
 elements\, so please dress comfortably and be prepared for varying conditi
 ons.\n 	Complimentary Beverage: Enjoy a complimentary beverage included wi
 th your registration to keep you refreshed as you work.\n\nJoin us for thi
 s creative and meditative journey into the world of indigo dyeing\, where 
 you'll leave with beautiful\, hand-dyed pieces and a newfound appreciation
  for the artistry and patience involved in this traditional craft.\n\nGET 
 TICKETS\n
ATTACH;FMTTYPE=image/jpeg:https://breathemiami.us/wp-content/uploads/2024/
 08/Shibori-Indigo-Dying-Workshop.jpg
CATEGORIES:Things To Do
LOCATION:Pinecrest Gardens\, 11000 Southwest 57th Avenue Pinecrest\, Miami\
 ,  United States\, 33156\, FL \, United States
X-APPLE-STRUCTURED-LOCATION;VALUE=URI;X-ADDRESS=11000 Southwest 57th Avenue
  Pinecrest\, Miami\,  United States\, 33156\, FL \, United States;X-APPLE-
 RADIUS=100;X-TITLE=Pinecrest Gardens:geo:0,0
END:VEVENT
BEGIN:VTIMEZONE
TZID:America/New_York
X-LIC-LOCATION:America/New_York
BEGIN:DAYLIGHT
DTSTART:20240310T030000
TZOFFSETFROM:-0500
TZOFFSETTO:-0400
TZNAME:EDT
END:DAYLIGHT
END:VTIMEZONE
END:VCALENDAR