BEGIN:VCALENDAR
VERSION:2.0
PRODID:-//wp-events-plugin.com//7.2.3.1//EN
TZID:America/New_York
X-WR-TIMEZONE:America/New_York
BEGIN:VEVENT
UID:1126@breathemiami.us
DTSTART;TZID=America/New_York:20241107T140000
DTEND;TZID=America/New_York:20241107T200000
DTSTAMP:20241023T043131Z
URL:https://breathemiami.us/events/shed-the-dead-peel-party/
SUMMARY:Shed the Dead' Peel Party
DESCRIPTION:Get ready to transform your skin at Sweet Skin by Gaby Medical 
 Spa’s exclusive Shed the Dead Peel Party on November 7th\, 2024\, from 2
  PM to 8 PM. Located in the heart of Coral Gables\, this intimate\, Hallow
 een-themed event offers a luxurious day of skin rejuvenation\, gourmet bit
 es\, and exciting giveaways.\n\nJoin us and experience the VI Peel\, the g
 old standard of medical chemical peels\, renowned for its ability to drama
 tically enhance skin texture\, tone\, and clarity. Whether you’re lookin
 g for a refreshed glow or a deeper skin transformation\, this event provid
 es the perfect opportunity to invest in your beauty routine while enjoying
  exclusive perks.\nEvent Details:\n\n 	Date: Thursday\, November 7\, 2024\
 n 	Time: 2 PM - 8 PM\n 	Location: Sweet Skin by Gaby Medical Spa\n250 Cata
 lonia Ave. Suite 303\, Coral Gables\, FL 33134\n 	Ticket Price: $189 (Limi
 ted to 30 attendees)\n\nWhat’s Included:\nFor just $189\, attendees will
  receive:\n\n 	Custom VI Peel: A professional chemical peel tailored to yo
 ur skin's needs\, leaving you glowing\, refreshed\, and rejuvenated.\n 	Ex
 clusive Event-Only Perks: Enjoy 20% OFF on all treatment packages\, and 10
 % OFF on all skincare products\, only available during the event.\n 	Swag 
 Bag: Take home an exclusive swag bag filled with beauty goodies to enhance
  your skincare journey.\n 	Gourmet Bites &amp\; Drinks: Savor delectable h
 ors d'oeuvres and drinks in a festive Halloween-themed setting while relax
 ing in the spa atmosphere.\n 	PRP Microneedling Giveaway: Enter for a chan
 ce to win this advanced skincare treatment\, valued at $450!\n 	One-Week F
 ollow-Up: Return for a complimentary follow-up visit with a special hydrat
 ing mask to perfect and polish your post-peel glow.\n\nImportant Details:\
 n\n 	Appointment Required: To enjoy the complimentary VI Peel\, please tex
 t 786-333-3315 to reserve your appointment. Complimentary services will on
 ly be performed on the day of the event.\n 	Cancellation Policy: Cancel at
  least 5 days prior to the event for a full refund.\n 	Pre-treatment Guide
 lines: Follow the pre-treatment instructions provided to you upon reservat
 ion to ensure optimal results.\n\nWith only 30 spots available\, this excl
 usive event promises personalized care and a unique opportunity to refresh
  your skin for the season. Don’t miss out on this pampering\, fun-filled
  experience—reserve your spot today and get ready to Shed the Dead at Sw
 eet Skin by Gaby!\n\nGET TICKETS\n
ATTACH;FMTTYPE=image/jpeg:https://breathemiami.us/wp-content/uploads/2024/
 10/Shed-the-Dead-Peel-Party-1.jpg
CATEGORIES:Things To Do
LOCATION:Sweet Skin by Gaby\, 250 Catalonia Avenue #STE 303 Coral Gables\, 
 Miami\, Florida\, 33134\, FL\, United States
X-APPLE-STRUCTURED-LOCATION;VALUE=URI;X-ADDRESS=250 Catalonia Avenue #STE 3
 03 Coral Gables\, Miami\, Florida\, 33134\, FL\, United States;X-APPLE-RAD
 IUS=100;X-TITLE=Sweet Skin by Gaby:geo:0,0
END:VEVENT
BEGIN:VTIMEZONE
TZID:America/New_York
X-LIC-LOCATION:America/New_York
BEGIN:STANDARD
DTSTART:20241103T010000
TZOFFSETFROM:-0400
TZOFFSETTO:-0500
TZNAME:EST
END:STANDARD
END:VTIMEZONE
END:VCALENDAR