BEGIN:VCALENDAR
VERSION:2.0
PRODID:-//wp-events-plugin.com//7.2.3.1//EN
TZID:America/New_York
X-WR-TIMEZONE:America/New_York
BEGIN:VEVENT
UID:1246@breathemiami.us
DTSTART;TZID=America/New_York:20250224T180000
DTEND;TZID=America/New_York:20250224T210000
DTSTAMP:20250211T172355Z
URL:https://breathemiami.us/events/shamanic-family-constellations-with-eri
 c-lopez-at-the-faena-2/
SUMMARY:Shamanic Family Constellations with Eric Lopez at the FAENA
DESCRIPTION:Join internationally renowned healer Eric Lopez for a transform
 ative workshop that combines Shamanic Family Constellations with intuitive
  practices. This unique event offers a journey of peace and enlightenment\
 , helping participants explore and heal ancestral patterns and unresolved 
 loyalties that have been carried from previous generations.\nBased on the 
 method developed by celebrated psychotherapist Bert Hellinger over the pas
 t 50 years\, Family Constellations address and reconcile hidden emotional 
 dynamics and traumas. These inherited patterns\, often carried subconsciou
 sly\, can cause emotional distress and influence current relationships and
  life experiences. By acknowledging these unresolved issues with love and 
 consent\, participants can release the burdens passed down through generat
 ions\, allowing for healing and breaking free from recurring negative cycl
 es.\nNo prior knowledge of your family history is necessary. During the wo
 rkshop\, the hidden dynamics of your family will naturally unfold through 
 the emotional and physical movements of the participants who represent asp
 ects of your issue.\nEric Lopez enriches this experience by incorporating 
 Shamanic traditions and his intuitive healing practices\, making this work
 shop truly unique. Participants consistently describe the experience as em
 otional\, profound\, and transformative—words like "heartfelt\," "mesmer
 izing\," and "unbelievable" are often shared to describe the deep healing 
 achieved during these sessions.\nThis is a rare opportunity to engage in a
  deeply transformative healing process that will free you from old emotion
 al patterns\, allowing you to live more fully and harmoniously. Don’t mi
 ss this chance to embark on a journey of self-discovery and healing led by
  an expert in both traditional and Shamanic healing practices.\n\n\nGET TI
 CKETS\n
ATTACH;FMTTYPE=image/jpeg:https://breathemiami.us/wp-content/uploads/2025/
 02/Shamanic-Family-Constellations-with-Eric-Lopez-at-the-FAENA.jpeg
CATEGORIES:Wellness Events
LOCATION:Tierra Santa Healing House at Faena Hotel Miami Beach\, Third Floo
 r\, 3201 Collins Avenue\, Miami Beach\, Florida\, 33140\, United States
X-APPLE-STRUCTURED-LOCATION;VALUE=URI;X-ADDRESS=Third Floor\, 3201 Collins 
 Avenue\, Miami Beach\, Florida\, 33140\, United States;X-APPLE-RADIUS=100;
 X-TITLE=Tierra Santa Healing House at Faena Hotel Miami Beach:geo:0,0
END:VEVENT
BEGIN:VTIMEZONE
TZID:America/New_York
X-LIC-LOCATION:America/New_York
BEGIN:STANDARD
DTSTART:20241103T010000
TZOFFSETFROM:-0400
TZOFFSETTO:-0500
TZNAME:EST
END:STANDARD
END:VTIMEZONE
END:VCALENDAR