BEGIN:VCALENDAR
VERSION:2.0
PRODID:-//wp-events-plugin.com//7.2.3.1//EN
TZID:America/New_York
X-WR-TIMEZONE:America/New_York
BEGIN:VEVENT
UID:399@breathemiami.us
DTSTART;TZID=America/New_York:20240405T180000
DTEND;TZID=America/New_York:20240405T203000
DTSTAMP:20240318T175119Z
URL:https://breathemiami.us/events/sfdha-presents-mainstream-dental-fads/
SUMMARY:SFDHA Presents: Mainstream Dental Fads
DESCRIPTION:\nDemystifying Dental Trends: Free CE Course on Mainstream Dent
 al Fads\nCalling all dental hygienists! Join the South Florida Dental Hygi
 ene Association (SFDHA) for an informative and FREE continuing education (
 CE) course: Mainstream Dental Fads.\nWhat are Dental Fads? These are trend
 y oral health practices that gain popularity quickly but may lack scientif
 ic backing or even be harmful. Examples include charcoal whitening\, oil p
 ulling\, DIY braces\, and non-FDA approved whitening products.\nThis hybri
 d CE course (in-person and virtual option) will equip you to:\n\n\n 	Under
 stand the history and cultural context behind dental fads.\n 	Evaluate the
  science (or lack thereof) behind popular trends.\n 	Recognize potential r
 isks and consequences associated with these fads.\n 	Develop strategies fo
 r educating your patients about making informed choices.\n\nCourse Details
 :\n\n\n 	Date: Friday\, April 5th\, 2024\n 	Time: 6:00 PM Registration / 6
 :30 PM - 8:30 PM CE Course\n 	Location: Dunkin Donuts in Davie\, Cappuccin
 o Conference Room (2895 Dave Road\, Davie\, FL 33314) OR Virtual via Zoom 
 (link provided upon registration)\n 	Speaker: Dr. Juan Packer\, DMD\, AGPR
  (distinguished dentist with expertise in advanced general dentistry and a
  decorated military service history)\n 	CE Credits: Earn 2 CE credits\n\nT
 his course is FREE for active ADHA members! Donations to HYPAC (Helping Yo
 ur Profession Advance in Congress) are appreciated.\nDon't miss this valua
 ble opportunity to stay informed and empower your patients!\n[Include SFDH
 A Registration Link (Optional)]\nSouth Florida Dental Hygiene Association:
  Promoting Oral Health Knowledge &amp\; Excellence\n\n\n\n\nBUY TICKETS\n\
 n
ATTACH;FMTTYPE=image/jpeg:https://breathemiami.us/wp-content/uploads/2024/
 03/https___cdn.evbuc_.com_images_711445809_302113748571_1_original.jpeg
CATEGORIES:Wellness Events
LOCATION:Dunkin' Donuts: Cappuccino Conference Room\, 2895 Davie Road \, Da
 vie\, Florida\, 33314\, United States
X-APPLE-STRUCTURED-LOCATION;VALUE=URI;X-ADDRESS=2895 Davie Road \, Davie\, 
 Florida\, 33314\, United States;X-APPLE-RADIUS=100;X-TITLE=Dunkin' Donuts:
  Cappuccino Conference Room:geo:0,0
END:VEVENT
BEGIN:VTIMEZONE
TZID:America/New_York
X-LIC-LOCATION:America/New_York
BEGIN:DAYLIGHT
DTSTART:20240310T030000
TZOFFSETFROM:-0500
TZOFFSETTO:-0400
TZNAME:EDT
END:DAYLIGHT
END:VTIMEZONE
END:VCALENDAR