BEGIN:VCALENDAR
VERSION:2.0
PRODID:-//wp-events-plugin.com//7.2.3.1//EN
TZID:America/New_York
X-WR-TIMEZONE:America/New_York
BEGIN:VEVENT
UID:993@breathemiami.us
DTSTART;TZID=America/New_York:20241011T190000
DTEND;TZID=America/New_York:20241011T200000
DTSTAMP:20241003T175746Z
URL:https://breathemiami.us/events/serenity-sound-bath-2/
SUMMARY:Serenity Sound Bath
DESCRIPTION:Welcome to the Serenity Sound Bath\, an enchanting journey of r
 elaxation and rejuvenation hosted at Esmeralda's Salty Air Retreat. This u
 nique event invites participants to immerse themselves in a world of sooth
 ing sounds designed to wash away stress and promote inner tranquility.\n\n
 In the serene surroundings of this retreat\, attendees will experience the
  transformative power of sound therapy\, allowing the healing vibrations t
 o envelop them and create a deep sense of peace. As the gentle resonance o
 f crystal bowls\, gongs\, and other instruments fills the air\, participan
 ts can let go of the demands of daily life and enter a state of blissful e
 scape.\n\nThis in-person gathering is more than just a sound bath\; it’s
  an opportunity to nourish the mind\, body\, and soul. The calming environ
 ment and therapeutic sounds work together to foster relaxation\, rejuvenat
 ion\, and a profound connection to oneself.\n\nTo enhance this restorative
  experience\, attendees are encouraged to bring cozy socks and a blanket\,
  creating a comfortable space for relaxation. Punctuality is essential\, a
 s the event will begin promptly\, ensuring everyone can fully engage in th
 is tranquil journey.\n\nDon’t miss the chance to step away from the chao
 s of the world and indulge in a moment of serenity. Reserve your spot toda
 y and prepare to embark on a path of relaxation and self-discovery!\n\nGET
  TICKETS\n
ATTACH;FMTTYPE=image/jpeg:https://breathemiami.us/wp-content/uploads/2024/
 10/Serenity-Sound-Bath.jpg
CATEGORIES:Things To Do,Wellness Events
LOCATION:Esmeralda's Salty Air Retreat\, 12307 Southwest 224th Street\, Mia
 mi\, Florida\, 33170\,  FL \, United States
X-APPLE-STRUCTURED-LOCATION;VALUE=URI;X-ADDRESS=12307 Southwest 224th Stree
 t\, Miami\, Florida\, 33170\,  FL \, United States;X-APPLE-RADIUS=100;X-TI
 TLE=Esmeralda's Salty Air Retreat:geo:0,0
END:VEVENT
BEGIN:VTIMEZONE
TZID:America/New_York
X-LIC-LOCATION:America/New_York
BEGIN:DAYLIGHT
DTSTART:20240310T030000
TZOFFSETFROM:-0500
TZOFFSETTO:-0400
TZNAME:EDT
END:DAYLIGHT
END:VTIMEZONE
END:VCALENDAR