BEGIN:VCALENDAR
VERSION:2.0
PRODID:-//wp-events-plugin.com//7.2.3.1//EN
TZID:America/New_York
X-WR-TIMEZONE:America/New_York
BEGIN:VEVENT
UID:1158@breathemiami.us
DTSTART;TZID=America/New_York:20241116T113000
DTEND;TZID=America/New_York:20241116T140000
DTSTAMP:20241023T111024Z
URL:https://breathemiami.us/events/serenity-saturdays-sound-healing-medita
 tion-intimate-group-experience/
SUMMARY:Serenity Saturdays Sound Healing Meditation- Intimate Group Experie
 nce
DESCRIPTION:Immerse yourself in a soothing and transformative sound healing
  journey that will rejuvenate your mind\, body\, and spirit. 🌙✨ Join 
 a small\, intimate group at Sheri Kaplan Health and Wellness in North Miam
 i for a rejuvenating sound bath session\, designed to connect you with you
 r inner self and others on a similar path of wellness.\n\nEvent Highlights
 :\n\n 	Date: Every Saturday\n 	Location: Sheri Kaplan Health and Wellness\
 , 14901 NE 20th Ave\, 2nd Floor\, North Miami\, FL (Inside ADAPT)\n 	Time 
 Slots:\n\n 	11:30 AM - 1 PM\n 	2 PM - 3:30 PM\n\n\n 	Limited Space: Only 7
  participants per session\, ensuring an intimate\, personalized experience
 .\n\nWhat to Expect:\n\n 	Sound Bath: Relax to the therapeutic frequencies
  of gongs\, singing bowls\, and chimes\, designed to promote deep healing.
 \n 	Cozy Atmosphere: Enjoy the comfort of yoga mats\, plush pillows\, blan
 kets\, and eye masks in a serene setting.\n 	Essential Oils: A personalize
 d essential oil blend tailored to your mood from over 160 different oils.\
 n 	Crystal Healing: Choose from chakra-aligned crystals to enhance your en
 ergy alignment during the session.\n 	Third Eye Pyramids: Amplify your spi
 ritual experience with pyramids that deepen your meditation.\n 	Oracle Car
 d Reading: Receive a unique\, personalized insight through oracle card gui
 dance.\n 	Chocolate Treat: End the session with a grounding piece of choco
 late to bring you back to a centered state.\n 	Gift Bag: A special take-ho
 me gift bag to continue your journey of wellness.\n\nPrice: $35 per sessio
 n\nBook Now:\n\n 	11:30 AM Session: https://calendly.com/sherikaplan/seren
 itysaturday\n 	2 PM Session: https://calendly.com/sherikaplan/2pmsoundbath
 \n\nPayment Options:\n\n 	Zelle (Preferred): Sheri Kaplan 786-419-1389\n 	
 Venmo: https://Venmo.com/sheri-kaplan-2\n 	PayPal: kaplansheri@gmail.com\n
  	Cash App: https://Cash.app/$sherikaplan12\n\nNote: Please text Sheri Kap
 lan at 786-419-1389 to confirm availability before booking\, as space is l
 imited and bookings are managed across multiple platforms.\n\nJoin us in t
 his calming journey toward inner peace\, spiritual awakening\, and holisti
 c well-being. Let the vibrations of the sound bath guide you toward deep r
 elaxation and a renewed sense of balance.\n\nFor more info and reviews:\nH
 ttps://Bit.ly/GoogleSheri\nHttps://SheriKaplan.com\n\n#HolisticHealing #So
 undBath #Meditation #WellnessJourney #SheriKaplanWellness #Relaxation #Spi
 ritualAwakening #RechargeAndReset\n\nGET TICKETS\n
CATEGORIES:Wellness Events
LOCATION:Sheri Kaplan Health and Wellness Center\, 14901 Northeast 20th Ave
 nue #2nd Floor North Miami\, Miami\, Florida\, 33181 \, FL\, United States
X-APPLE-STRUCTURED-LOCATION;VALUE=URI;X-ADDRESS=14901 Northeast 20th Avenue
  #2nd Floor North Miami\, Miami\, Florida\, 33181 \, FL\, United States;X-
 APPLE-RADIUS=100;X-TITLE=Sheri Kaplan Health and Wellness Center:geo:0,0
END:VEVENT
BEGIN:VTIMEZONE
TZID:America/New_York
X-LIC-LOCATION:America/New_York
BEGIN:STANDARD
DTSTART:20241103T010000
TZOFFSETFROM:-0400
TZOFFSETTO:-0500
TZNAME:EST
END:STANDARD
END:VTIMEZONE
END:VCALENDAR