BEGIN:VCALENDAR
VERSION:2.0
PRODID:-//wp-events-plugin.com//7.2.3.1//EN
TZID:America/New_York
X-WR-TIMEZONE:America/New_York
BEGIN:VEVENT
UID:941@breathemiami.us
DTSTART;TZID=America/New_York:20241027T110000
DTEND;TZID=America/New_York:20241027T120000
DTSTAMP:20241002T140810Z
URL:https://breathemiami.us/events/self-care-sundays-sound-bath-meditation
 /
SUMMARY:Self-Care Sundays: Sound Bath Meditation
DESCRIPTION:Hosted by Nicolas Sotomayor\, the weekly "Self-Care Sundays" at
  Inked Zen offers a tranquil space for individuals to unwind and restore t
 heir energy through the transformative practice of sound bath meditation. 
 This full-body immersive experience uses carefully curated sounds and freq
 uencies to promote therapeutic and healing effects on both the mind and bo
 dy\, creating a sense of deep relaxation and inner balance.\n\nDesigned fo
 r everyone\, whether you're a seasoned meditator or just beginning your mi
 ndfulness journey\, this in-person event provides the perfect environment 
 to recharge for the week ahead. Participants are invited to bring their yo
 ga mats\, as everything else needed for the session will be provided.\n\nA
 ttendees should arrive by 10:45 a.m. to settle in\, with free street parki
 ng available nearby. The event takes place on the second floor\, offering 
 a peaceful\, distraction-free atmosphere. Don't miss the opportunity to pr
 ioritize self-care\, tap into the healing power of sound\, and start your 
 Sunday on a peaceful note.\n\nGET TICKETS\n
ATTACH;FMTTYPE=image/jpeg:https://breathemiami.us/wp-content/uploads/2024/
 10/Self-Care-Sundays-Sound-Bath-Meditation.jpg
CATEGORIES:Wellness Events
LOCATION:Inked Zen\, 109 North La Cienega Boulevard Suite\, CA 90211\, Cali
 fornia\, 90211\, CA\, United States
X-APPLE-STRUCTURED-LOCATION;VALUE=URI;X-ADDRESS=109 North La Cienega Boulev
 ard Suite\, CA 90211\, California\, 90211\, CA\, United States;X-APPLE-RAD
 IUS=100;X-TITLE=Inked Zen:geo:0,0
END:VEVENT
BEGIN:VTIMEZONE
TZID:America/New_York
X-LIC-LOCATION:America/New_York
BEGIN:DAYLIGHT
DTSTART:20240310T030000
TZOFFSETFROM:-0500
TZOFFSETTO:-0400
TZNAME:EDT
END:DAYLIGHT
END:VTIMEZONE
END:VCALENDAR