BEGIN:VCALENDAR
VERSION:2.0
PRODID:-//wp-events-plugin.com//7.2.3.1//EN
TZID:America/New_York
X-WR-TIMEZONE:America/New_York
BEGIN:VEVENT
UID:1139@breathemiami.us
DTSTART;TZID=America/New_York:20241121T190000
DTEND;TZID=America/New_York:20241121T203000
DTSTAMP:20241023T075415Z
URL:https://breathemiami.us/events/self-care-sound-bath-immersion/
SUMMARY:Self Care Sound Bath Immersion
DESCRIPTION:Miami is invited to experience deep relaxation and rejuvenation
  through the Self Care Sound Bath Immersion\, a unique sound healing event
  taking place on Thursday\, November 21st\, from 7:00 PM to 8:30 PM. This 
 meditative journey is designed to help participants immerse themselves in 
 soundscapes that bring balance to mind\, body\, and spirit.\n\nA sound bat
 h is a musically meditative experience where participants are enveloped in
  harmonious frequencies and vibrations. These rich overtones and undertone
 s create an environment of deep relaxation\, allowing the body and mind to
  unwind. Similar to how music can shift our emotional state\, sound baths 
 use the fundamentals of harmonics\, frequencies\, and vibrations to guide 
 participants into a meditative state\, promoting clarity and emotional rel
 ease.\n\nThrough the sound bath immersion\, participants have the opportun
 ity to connect with their emotional bodies\, gain insights into their inne
 r worlds\, and cultivate greater self-awareness. This practice can aid in 
 making more conscious decisions that benefit overall well-being. Interesti
 ngly\, research suggests that beginners often experience more profound eff
 ects during their first sound bath compared to those who regularly meditat
 e\, making this event open and impactful for all levels.\n\nKyle Lam\, an 
 experienced wellness practitioner with a decade of expertise\, will facili
 tate the session. Known for curating healing ceremonies throughout Souther
 n California\, Kyle's deep knowledge of music and holistic practices helps
  participants reach meditative states\, enhancing their connection with th
 eir inner selves. His aim is to inspire the community to nurture their wel
 l-being and foster a deeper connection to their hearts.\n\nWhat to Bring:\
 n\n 	Yoga Mat\n 	Blanket\n 	Pillow\n 	Eye covering (for enhanced meditatio
 n)\n 	Cushion to prop up your legs\n 	Water\n 	Comfortable\, loose clothin
 g\n\nEvent Details:\n\n 	Date: Thursday\, November 21st\n 	Time: 7:00 PM -
  8:30 PM\n 	Location: Tantra Studios\, Miami\, FL\n 	Parking: Free parking
  available\n 	Arrive Early: Please arrive 10 minutes prior to the event\n\
 nFor more information\, visit Tantra Studios or contact us via phone or te
 xt at 305-992-0754.\n\nInstagram: @tantra_studios\n\nExperience deep relax
 ation and a renewed sense of clarity in this restorative sound bath event!
 \n\nGET TICKETS\n
ATTACH;FMTTYPE=image/jpeg:https://breathemiami.us/wp-content/uploads/2024/
 10/Self-Care-Sound-Bath-Immersion.jpg
CATEGORIES:Wellness Events
LOCATION:Tantra Studios\, 390 Northeast 59th Terrace Miami\, Miami Beach\, 
 Florida\, 33137 \,  FL \, United States
X-APPLE-STRUCTURED-LOCATION;VALUE=URI;X-ADDRESS=390 Northeast 59th Terrace 
 Miami\, Miami Beach\, Florida\, 33137 \,  FL \, United States;X-APPLE-RADI
 US=100;X-TITLE=Tantra Studios:geo:0,0
END:VEVENT
BEGIN:VTIMEZONE
TZID:America/New_York
X-LIC-LOCATION:America/New_York
BEGIN:STANDARD
DTSTART:20241103T010000
TZOFFSETFROM:-0400
TZOFFSETTO:-0500
TZNAME:EST
END:STANDARD
END:VTIMEZONE
END:VCALENDAR