BEGIN:VCALENDAR
VERSION:2.0
PRODID:-//wp-events-plugin.com//7.2.3.1//EN
TZID:America/New_York
X-WR-TIMEZONE:America/New_York
BEGIN:VEVENT
UID:1003@breathemiami.us
DTSTART;TZID=America/New_York:20241025T190000
DTEND;TZID=America/New_York:20241025T203000
DTSTAMP:20241003T201912Z
URL:https://breathemiami.us/events/secrets-to-sensational-intimacy/
SUMMARY:Secrets to Sensational Intimacy
DESCRIPTION:In a world where understanding intimacy can often feel daunting
 \, Secrets to Sensational Intimacy offers a refreshing perspective on sexu
 al exploration and connection. This engaging event\, led by Sex &amp\; Int
 imacy Coach Ally Jewel\, invites participants to embark on a lifelong adve
 nture in learning about sex and intimacy through the innovative Erotic Blu
 eprints™ framework\, which transforms the journey into a fun and enlight
 ening experience.\n\nAlly emphasizes that sex is not merely a performance 
 or a destination but rather a path to fulfillment and pleasure. By joining
  this session\, attendees will have the opportunity to expand their erotic
  intelligence and enhance their self-awareness\, ultimately deepening thei
 r intimate connections. The workshop is designed to elevate sexual satisfa
 ction and boost confidence\, empowering participants to discover and expre
 ss their desires more effortlessly.\n\nIn a safe and comfortable environme
 nt that prioritizes consent\, individuals will explore essential aspects o
 f arousal\, including touch skills and authentic relating. Participants wi
 ll learn effective communication techniques that promote openness and unde
 rstanding in intimate relationships. Ally understands that many have not h
 ad access to a comprehensive sex-positive education during their formative
  years\; therefore\, this workshop aims to bridge that gap\, liberating in
 dividuals from uncertainty and discomfort in their intimate lives.\n\nThro
 ughout the event\, attendees will engage in practical exercises and discus
 sions that encourage vulnerability and authenticity. Ally's expert guidanc
 e will help participants navigate the complexities of intimacy\, allowing 
 them to uncover not only their desires but also those of their partners. T
 his transformative experience fosters a greater sense of connection\, enha
 ncing both emotional and physical intimacy.\n\nBy the end of the workshop\
 , participants will leave feeling empowered\, informed\, and ready to embr
 ace their sensuality with confidence. Secrets to Sensational Intimacy prom
 ises to be a journey of self-discovery and growth\, unlocking the door to 
 deeper relationships and a more fulfilling intimate life.\n\nGET TICKETS\n
ATTACH;FMTTYPE=image/jpeg:https://breathemiami.us/wp-content/uploads/2024/
 10/Secrets-to-Sensational-Intimacy.jpg
CATEGORIES:Things To Do
LOCATION:The Standard Spa\, 40 Island Avenue Miami Beach\, Miami\, Florida\
 , 33139\, FL\, United States
X-APPLE-STRUCTURED-LOCATION;VALUE=URI;X-ADDRESS=40 Island Avenue Miami Beac
 h\, Miami\, Florida\, 33139\, FL\, United States;X-APPLE-RADIUS=100;X-TITL
 E=The Standard Spa:geo:0,0
END:VEVENT
BEGIN:VTIMEZONE
TZID:America/New_York
X-LIC-LOCATION:America/New_York
BEGIN:DAYLIGHT
DTSTART:20240310T030000
TZOFFSETFROM:-0500
TZOFFSETTO:-0400
TZNAME:EDT
END:DAYLIGHT
END:VTIMEZONE
END:VCALENDAR