BEGIN:VCALENDAR
VERSION:2.0
PRODID:-//wp-events-plugin.com//7.2.3.1//EN
TZID:America/New_York
X-WR-TIMEZONE:America/New_York
BEGIN:VEVENT
UID:447@breathemiami.us
DTSTART;TZID=America/New_York:20240507T193000
DTEND;TZID=America/New_York:20240507T233000
DTSTAMP:20240908T155003Z
URL:https://breathemiami.us/events/savej-at-proyecto-tulum/
SUMMARY:SAVEJ at Proyecto Tulum
DESCRIPTION:\n\n\n\n\n\n\n\n\n\nJoin us as we bring back Savej to create hi
 s sonic ceremony of celebration in the sacred space of the all new Proyect
 o Tulum!\n\nFull schedule TBA\n\nAbout the Artist:\n\nSAVEJ\n\nBorn and ra
 ised in the Honey Island Swamp of Louisiana\, Savej [pron. savage] is know
 n around the globe for his unique and captivating “Ancient Future” sou
 nd. His integration of ancestral medicine music\, organic soundscapes\, an
 d exotic world instruments with groovy tribal rhythms and Louisiana flavor
  effectively bridges the gap between cultures and the Ages of time.\n\nSav
 ej’s live experience is designed to be sacred and celebratory sonic cere
 mony\, a remembrance of who and what we are as human beings\, and a reflec
 tion of the primordial essence that binds all things – all while infusin
 g irresistibly danceable grooves and heavy-hitting bass. He has performed 
 at some of the most sought after stages and festivals\, ranging from the l
 egendary Luna Stage at Envision Festival in Costa Rica to the Portal Stage
  at Area 15 in Las Vegas.\n\nSavej holds a deep passion for his frequent c
 ollaborations with indigenous tribes and has been entrusted as a bridge to
  infuse indigenous medicine songs into his music\, a mission which is reci
 procated by directly supporting the cultures they originate from via donat
 ion of record sales and creation of NFTs infusing indigenous art and music
 .\n\n\n\n\n\n\n\n\n\n\n\n\n\n\n\n\n\n\n\n\n\n\n\n\n\n
ATTACH;FMTTYPE=image/jpeg:https://breathemiami.us/wp-content/uploads/2024/
 04/Proyecto-Tulum_Fire-Flies-Forest.jpeg
CATEGORIES:Featured Events,Things To Do
LOCATION:Proyecto Tulum\, 2701 NW 2nd Avenue\, Miami\, Florida\, 33127\, Un
 ited States
X-APPLE-STRUCTURED-LOCATION;VALUE=URI;X-ADDRESS=2701 NW 2nd Avenue\, Miami\
 , Florida\, 33127\, United States;X-APPLE-RADIUS=100;X-TITLE=Proyecto Tulu
 m:geo:0,0
END:VEVENT
BEGIN:VTIMEZONE
TZID:America/New_York
X-LIC-LOCATION:America/New_York
BEGIN:DAYLIGHT
DTSTART:20240310T030000
TZOFFSETFROM:-0500
TZOFFSETTO:-0400
TZNAME:EDT
END:DAYLIGHT
END:VTIMEZONE
END:VCALENDAR