BEGIN:VCALENDAR
VERSION:2.0
PRODID:-//wp-events-plugin.com//7.2.3.1//EN
TZID:America/New_York
X-WR-TIMEZONE:America/New_York
BEGIN:VEVENT
UID:995@breathemiami.us
DTSTART;TZID=America/New_York:20241013T173000
DTEND;TZID=America/New_York:20241013T190000
DTSTAMP:20241003T180820Z
URL:https://breathemiami.us/events/satya-sangha-a-spiritual-book-club/
SUMMARY:Satya Sangha: a spiritual book club
DESCRIPTION:Satya Sangha invites you to join a nurturing and enlightening d
 iscussion circle led by the dynamic duo\, Catherine and Maylen. This spiri
 tual book club aims to create a space where participants can explore profo
 und themes\, share insights\, and deepen their understanding of spiritual 
 concepts through literature.\n\nThe featured book for this session is the 
 thought-provoking "The Seat of the Soul" by Gary Zukav\, a transformative 
 read that delves into the nature of the soul\, the power of intention\, an
 d the importance of aligning one's life with higher spiritual truths. As p
 articipants gather\, they will have the opportunity to engage in meaningfu
 l conversations about the book’s themes\, explore its teachings\, and re
 flect on how they can apply these insights to their own lives.\n\nThis gat
 hering is not just about discussing a book\; it’s about fostering a comm
 unity of like-minded individuals who are on a journey of self-discovery an
 d spiritual growth. By sharing personal experiences and perspectives\, mem
 bers of the circle will cultivate deeper connections with one another and 
 a greater sense of belonging.\n\nWhether you are a seasoned reader or new 
 to spiritual literature\, Satya Sangha welcomes all who are interested in 
 exploring the depths of the soul and enriching their spiritual journey. Co
 me prepared to listen\, share\, and learn in a warm and supportive environ
 ment.\n\nJoin Catherine and Maylen for this inspiring discussion and take 
 part in a collective exploration of the heart and spirit as you uncover th
 e wisdom found within the pages of "The Seat of the Soul."\n\nGET TICKETS\
 n
ATTACH;FMTTYPE=image/jpeg:https://breathemiami.us/wp-content/uploads/2024/
 10/Satya-Sangha-a-spiritual-book-club.jpg
CATEGORIES:Mindfulness Events,Things To Do
LOCATION:Ahana Yoga\, 43 NE 38 st Miami\, Miami\, Florida\, 33137\, FL\, Un
 ited States
X-APPLE-STRUCTURED-LOCATION;VALUE=URI;X-ADDRESS=43 NE 38 st Miami\, Miami\,
  Florida\, 33137\, FL\, United States;X-APPLE-RADIUS=100;X-TITLE=Ahana Yog
 a:geo:0,0
END:VEVENT
BEGIN:VTIMEZONE
TZID:America/New_York
X-LIC-LOCATION:America/New_York
BEGIN:DAYLIGHT
DTSTART:20240310T030000
TZOFFSETFROM:-0500
TZOFFSETTO:-0400
TZNAME:EDT
END:DAYLIGHT
END:VTIMEZONE
END:VCALENDAR