BEGIN:VCALENDAR
VERSION:2.0
PRODID:-//wp-events-plugin.com//7.2.3.1//EN
TZID:America/New_York
X-WR-TIMEZONE:America/New_York
BEGIN:VEVENT
UID:1030@breathemiami.us
DTSTART;TZID=America/New_York:20241026T113000
DTEND;TZID=America/New_York:20241026T130000
DTSTAMP:20241010T151320Z
URL:https://breathemiami.us/events/saturdays-group-sound-healing-meditatio
 n-experience-n-miami/
SUMMARY:Saturdays Group Sound Healing Meditation Experience N. Miami
DESCRIPTION:Immerse yourself in a deeply relaxing and transformative group 
 sound bath meditation every Saturday at Sheri Kaplan Health and Wellness. 
 With two available sessions at 11:30 AM or 2:00 PM\, these intimate gather
 ings (limited to 6 participants) offer a personalized healing experience d
 esigned to rejuvenate your mind\, body\, and spirit.\n\nEvent Details\n\n 
 	Date: Saturdays\n 	Time: Choose between two sessions – 11:30 AM to 1:00
  PM or 2:00 PM to 3:30 PM\n 	Location: Sheri Kaplan Health and Wellness\, 
 14901 NE 20th Ave\, 2nd Floor\, North Miami\, FL (inside ADAPT\, access vi
 a the private staircase and look for the banner on the balcony).\n 	Ticket
 s: $35 per session\n\nWhat’s Included\n\n 	Sound Bath: A therapeutic ses
 sion featuring over 60 sound frequencies\, including gongs\, singing bowls
 \, and chimes\, to restore balance and harmony.\n 	Personalized Touch: Rel
 ax in an intimate setting equipped with yoga mats\, cozy blankets\, eye ma
 sks\, and soft pillows for maximum comfort.\n 	Essential Oils: A custom bl
 end from over 200 oils tailored to your mood for enhanced relaxation.\n 	C
 rystals: Choose chakra-aligned crystals to deepen your experience.\n 	Thir
 d Eye Pyramids: Boost your spiritual connection and intuition during the s
 ession.\n 	Oracle Card Reading: Receive personalized guidance and insights
  to reflect on your journey.\n 	Grounding Chocolate: End the session with 
 a delicious piece of chocolate to ground your energy.\n\nAs a bonus\, part
 icipants will receive a gift bag\, and you can enhance your wellness journ
 ey with a DIY essential oil blend for just $20 after the session.\n\nBooki
 ng Information\n\n 	11:30 AM Session: Book Now\n 	2:00 PM Session: Book No
 w\nBefore booking\, please text Sheri Kaplan at 786-419-1389 to confirm av
 ailability\, as multiple ticketing platforms are used.\n\nPayment Options\
 nTo avoid fees\, choose the preferred payment methods below:\n\n 	Zelle: S
 heri Kaplan (786-419-1389)\n 	Venmo: Venmo.com/sheri-kaplan-2\n 	PayPal: k
 aplansheri@gmail.com\n 	Cash App: Cash.app/$sherikaplan12\n\nFor reviews\,
  services\, and more\, visit:\n\n 	Google Reviews\n 	Sheri Kaplan Website\
 n 	Linktree\n\nExperience holistic healing\, relaxation\, and spiritual aw
 akening through these serene sound bath sessions. Perfect for those seekin
 g to recharge\, reset\, and connect with like-minded individuals.\n\n#Holi
 sticHealing #SoundBath #WellnessJourney #SpiritualAwakening #NorthMiamiEve
 nts #SheriKaplanWellness #Relaxation #SelfCare #Aventura #NorthMiamiBeach\
 n\nGET TICKETS\n
ATTACH;FMTTYPE=image/jpeg:https://breathemiami.us/wp-content/uploads/2024/
 10/Saturdays-Group-Sound-Healing-Meditation-Experience-N.-Miami.jpg
CATEGORIES:Wellness Events
LOCATION:Sheri Kaplan Health and Wellness Center\, 14901 Northeast 20th Ave
 nue\, 2nd Floor North Miami\, Florida\, 33181\, FL \, United States
X-APPLE-STRUCTURED-LOCATION;VALUE=URI;X-ADDRESS=14901 Northeast 20th Avenue
 \, 2nd Floor North Miami\, Florida\, 33181\, FL \, United States;X-APPLE-R
 ADIUS=100;X-TITLE=Sheri Kaplan Health and Wellness Center:geo:0,0
END:VEVENT
BEGIN:VTIMEZONE
TZID:America/New_York
X-LIC-LOCATION:America/New_York
BEGIN:DAYLIGHT
DTSTART:20240310T030000
TZOFFSETFROM:-0500
TZOFFSETTO:-0400
TZNAME:EDT
END:DAYLIGHT
END:VTIMEZONE
END:VCALENDAR