BEGIN:VCALENDAR
VERSION:2.0
PRODID:-//wp-events-plugin.com//7.2.3.1//EN
TZID:America/New_York
X-WR-TIMEZONE:America/New_York
BEGIN:VEVENT
UID:1084@breathemiami.us
DTSTART;TZID=America/New_York:20241109T103000
DTEND;TZID=America/New_York:20241109T114500
DTSTAMP:20241013T132009Z
URL:https://breathemiami.us/events/saturday-morning-yoga-flow-in-coconut-g
 rove-6/
SUMMARY:Saturday Morning Yoga Flow in Coconut Grove
DESCRIPTION:Modern ŌM proudly announces a rejuvenating Saturday morning yo
 ga class in the enchanting surroundings of the Mayfair House Hotel &amp\; 
 Garden in Coconut Grove. This 75-minute session invites participants to co
 nnect with a like-minded community and set a positive tone for the weekend
 .\n\nImagine starting your Saturday with an invigorating yoga practice\, f
 ollowed by a leisurely stroll to the Coconut Grove Farmer's Market or a de
 lightful brunch in the neighborhood. It's the perfect way to embrace a bea
 utiful morning filled with connection and wellness.\n\nInstructor: Leom\, 
 a passionate and vibrant instructor\, is dedicated to guiding others towar
 ds a life of freedom and expansiveness. He employs a variety of healing te
 chniques\, including sound therapy\, guided meditation\, breathwork\, and 
 yoga\, to help participants elevate their vibrations and access the healin
 g energy within. Leom's goal is to facilitate a holistic approach to well-
 being\, ensuring that everyone leaves feeling whole and rejuvenated.\n\nLo
 cation: Mayfair House Hotel &amp\; Garden\, 3000 Florida Ave\, Coconut Gro
 ve\, FL 33133\n\nParking: Valet parking is available at the Mayfair House\
 , along with paid parking options in the vicinity.\n\nWhat to Bring: Atten
 dees are encouraged to bring a yoga mat\, a refillable water bottle\, and 
 an open heart\, ready to embrace the experience.\n\nTickets: Early Bird an
 d General Admission registration options are available.\nAbout Modern ŌM\
 nSince its inception in 2015\, Modern ŌM has been a bridge to premier spi
 ritual wellness programs\, offering over 20 events each month in Miami\, a
 longside retreats\, training sessions\, and branded merchandise. The organ
 ization fosters a vibrant community of entrepreneurs\, professionals\, and
  creatives committed to prioritizing their spiritual health and personal g
 rowth.\nCommunity Praise\nParticipants consistently express their apprecia
 tion for Modern ŌM's supportive environment:\n\n 	"I love the community a
 nd the vibe of Modern ŌM!" - Seema\n 	"I highly recommend this membership
 —you won't regret it!" - Nadine\n 	"Modern ŌM truly cares about its com
 munity and the conscious evolution of its members. Thank you!" - Alessandr
 a\n\nPhoto Waiver\nParticipants should be aware that photography and recor
 ding may occur during the event. Any media captured will belong to Modern 
 ŌM\, Inc.\, which reserves the right to use these images for promotional 
 and marketing purposes. Participants are kindly asked not to take photogra
 phs or record any part of the event.\n\nJoin us for a transformative exper
 ience where movement meets community in a picturesque setting!\n\nGET TICK
 ETS\n
ATTACH;FMTTYPE=image/jpeg:https://breathemiami.us/wp-content/uploads/2024/
 10/Saturday-Morning-Yoga-Flow-in-Coconut-Grove-1.jpg
CATEGORIES:Wellness Events
LOCATION:Mayfair House Hotel & Garden\, 3000 Florida Avenue\, Miami\, FL\, 
 33133\, FL\, United States
X-APPLE-STRUCTURED-LOCATION;VALUE=URI;X-ADDRESS=3000 Florida Avenue\, Miami
 \, FL\, 33133\, FL\, United States;X-APPLE-RADIUS=100;X-TITLE=Mayfair Hous
 e Hotel & Garden:geo:0,0
END:VEVENT
BEGIN:VTIMEZONE
TZID:America/New_York
X-LIC-LOCATION:America/New_York
BEGIN:STANDARD
DTSTART:20241103T010000
TZOFFSETFROM:-0400
TZOFFSETTO:-0500
TZNAME:EST
END:STANDARD
END:VTIMEZONE
END:VCALENDAR