BEGIN:VCALENDAR
VERSION:2.0
PRODID:-//wp-events-plugin.com//7.2.3.1//EN
TZID:America/New_York
X-WR-TIMEZONE:America/New_York
BEGIN:VEVENT
UID:1007@breathemiami.us
DTSTART;TZID=America/New_York:20241102T103000
DTEND;TZID=America/New_York:20241102T114500
DTSTAMP:20241005T141827Z
URL:https://breathemiami.us/events/saturday-morning-yoga-flow-in-coconut-g
 rove-5/
SUMMARY:Saturday Morning Yoga Flow in Coconut Grove
DESCRIPTION:Modern ŌM presents a rejuvenating Saturday Morning Yoga Flow 
 in the scenic setting of the Mayfair House Hotel &amp\; Garden in Coconut 
 Grove. This 75-minute yoga class offers the perfect start to your weekend\
 , blending mindful movement with a sense of community. After the session\,
  participants can stroll to the Coconut Grove Farmer's Market or enjoy bru
 nch at nearby cafés\, making for a beautifully relaxed and balanced morni
 ng.\n\nLed by Leom\, an inspiring yoga teacher and healer\, the class inte
 grates a variety of wellness practices including sound therapy\, guided me
 ditation\, breathwork\, and yoga. Leom's mission is to help others unlock 
 the healing energy within\, using these tools to promote wholeness and wel
 lness in body\, mind\, and spirit. His sessions focus on raising the colle
 ctive vibration\, encouraging deep relaxation and inner harmony.\n\nWhat t
 o Expect:\n\n 	A refreshing 75-minute yoga flow for all levels\n 	Techniqu
 es incorporating sound therapy\, meditation\, and breathwork\n 	A vibrant 
 and supportive community atmosphere\n 	An opportunity to recharge your min
 d and body for the weekend\n\nEvent Details:\n\n 	Who: Led by Leom\, a yog
 a instructor dedicated to holistic healing\n 	Where: Mayfair House Hotel &
 amp\; Garden\, 3000 Florida Ave\, Coconut Grove\, FL 33133\n 	When: Every 
 Saturday morning\n 	Parking: Valet parking is available at Mayfair House\,
  with additional paid parking in the neighborhood\n\nWhat to Bring:\n\n 	A
  yoga mat\n 	A refillable water bottle\n 	An open heart\, ready for relaxa
 tion and connection\n\nTickets:\n\n 	Early Bird and General Admission tick
 ets available\n\nAbout Modern ŌM: Since 2015\, Modern ŌM has been conn
 ecting the community with top-tier spiritual wellness programs\, offering 
 more than 20 events monthly in Miami\, along with retreats\, trainings\, a
 nd branded merchandise. Our community thrives on a shared focus of persona
 l and spiritual well-being\, helping professionals\, entrepreneurs\, and c
 reatives cultivate a deeper sense of balance and purpose. At Modern ŌM\,
  we guide you in letting go of life's baggage and prioritizing your spirit
 ual growth.\n\nFollow Modern ŌM:\n\n 	Eventbrite | Instagram | TikTok | 
 Miami Telegram\n\nCommunity Praise:\n\n 	"I love the community\, I love th
 e vibe of Modern ŌM!" – Seema\n 	"Highly recommend this membership - yo
 u will not regret it!" – Nadine\n 	"Modern ŌM truly cares about its com
 munity and the conscious evolution of its members." – Alessandra\n\nPhot
 ography Waiver: By attending the event\, participants acknowledge that the
 y may be photographed or recorded\, and that Modern ŌM holds the rights 
 to use this media for promotional purposes. Personal photography or video 
 recording during the event is not permitted.\n\nJoin this yoga flow for a 
 blissful morning of movement\, healing\, and connection in Coconut Grove!\
 n\nGET TICKETS\n
ATTACH;FMTTYPE=image/jpeg:https://breathemiami.us/wp-content/uploads/2024/
 10/Saturday-Morning-Yoga-Flow-in-Coconut-Grove.jpg
CATEGORIES:Wellness Events
LOCATION:Mayfair House Hotel & Garden\, 3000 Florida Avenue\, Miami\, FL\, 
 33133\, United States
X-APPLE-STRUCTURED-LOCATION;VALUE=URI;X-ADDRESS=3000 Florida Avenue\, Miami
 \, FL\, 33133\, United States;X-APPLE-RADIUS=100;X-TITLE=Mayfair House Hot
 el & Garden:geo:0,0
END:VEVENT
BEGIN:VTIMEZONE
TZID:America/New_York
X-LIC-LOCATION:America/New_York
BEGIN:DAYLIGHT
DTSTART:20240310T030000
TZOFFSETFROM:-0500
TZOFFSETTO:-0400
TZNAME:EDT
END:DAYLIGHT
END:VTIMEZONE
END:VCALENDAR