BEGIN:VCALENDAR
VERSION:2.0
PRODID:-//wp-events-plugin.com//7.2.3.1//EN
TZID:America/New_York
X-WR-TIMEZONE:America/New_York
BEGIN:VEVENT
UID:149@breathemiami.us
DTSTART;TZID=America/New_York:20231109T170000
DTEND;TZID=America/New_York:20240107T000000
DTSTAMP:20240908T154738Z
URL:https://breathemiami.us/events/santas-enchanted-forest/
SUMMARY:Santa's Enchanted Forest: Where Magic Comes to Life
DESCRIPTION:Santa's Enchanted Forest\nCome and have a wonderful Christmas e
 xperience with your family at Santa's Enchanted Forest. This fun holiday e
 vent is starting on November 9\, 2023\, located in the Medley area of Miam
 i-Dade County. It's a big place with more than 40 acres of things to do\, 
 and you can enter from three different sides\, with lots of places to park
  your car.\n\nYou can have a great time with over 100 rides\, shows\, game
 s\, and other fun stuff. You'll see amazing lights and beautiful decoratio
 ns. You can even bring your kids to meet Santa. And if you get hungry\, th
 ere are more than 50 places to buy delicious food. Santa's Enchanted Fores
 t is the biggest holiday theme park in the world\, so it's something you r
 eally shouldn't miss with your family during the holiday season.\nEvent De
 tails:\nDate: November 9\, 2023 – January 7\, 2024\n\nTime: 5:00 PM to 1
 2:00 AM\n\nLocation: 7400 NW 87th Ave\, Miami\, FL 33166\, United States\n
 \nContact: (305) 892-9997\n\nWebsite: https://www.santasenchantedforest.co
 m/\n\nTicket Options:\n\n 	Adult (Ages 9-64): $53.94\n 	Child (Ages 3-8): 
 $44.86\n 	Senior (Ages 65+): $41.87\n\nClick for Tickets\nHighlights of th
 e Santa's Enchanted Forest\nBelow are the exciting highlights of this fun 
 festival.\nA Magical Winter Wonderland:\n\n\n\n\n\n\n\n\n\nSanta's Enchant
 ed Forest is a magical winter wonderland that transforms the heart of Miam
 i into a festive holiday paradise. Every year\, families and friends flock
  to this event to immerse themselves in the enchanting atmosphere of the M
 iami holiday season. With millions of twinkling lights and captivating hol
 iday displays\, it's a place where the spirit of Christmas comes to life.\
 nDazzling Light Displays:\nOne of the standout features of Santa's Enchant
 ed Forest is its dazzling light displays. The entire park is adorned with 
 countless LED lights\, creating a mesmerizing spectacle that captivates vi
 sitors of all ages. From intricate\, life-sized displays of Santa and his 
 reindeer to tunnels of twinkling lights\, the illumination is a sight to b
 ehold.\nThrilling Rides and Attractions:\nWhile Santa's Enchanted Forest i
 s a celebration of the holiday season\, it's also an amusement park with a
  wide range of thrilling rides and attractions. From classic carnival ride
 s to adrenaline-pumping roller coasters\, visitors can enjoy hours of ente
 rtainment alongside the festive holiday ambience.\nLive Entertainment:\nTh
 e event offers a diverse lineup of live entertainment\, including musical 
 performances\, dance shows\, and meet-and-greets with Santa Claus himself.
  It's a great place to enjoy live music and shows that capture the spirit 
 of the season\, making it a memorable experience for families and friends.
 \nDelicious Holiday Treats:\nNo holiday event would be complete without de
 licious holiday treats. At Santa's Enchanted Forest\, you can indulge in a
  variety of traditional and unique holiday foods and beverages. From hot c
 ocoa keva and fresh-baked cookies to festive treats like candy canes and g
 ingerbread\, there's something to satisfy every sweet tooth.\nFamily-Frien
 dly Fun:\nSanta's Enchanted Forest is designed with families in mind. It's
  a place where parents and children can come together to create lasting me
 mories. The event is brimming with activities suitable for all ages\, maki
 ng it an ideal destination for family outings during the holiday season.\n
 Conclusion\nVisit Santa's Enchanted Forest in Miami from November 9\, 2023
 \, to January 7\, 2024\, for an amazing Christmas experience with your fam
 ily. It's a huge holiday event with more than 40 acres of things to do\, i
 ncluding over 100 rides\, beautiful decorations\, and lots of tasty food. 
 You can even meet Santa. This place is like a magical winter world\, with 
 millions of sparkling lights and fun activities for all ages. Don't miss o
 ut on the biggest holiday theme park in the world – it's perfect for fam
 ily fun during the holiday season.\n\n\n\n\n\n\n\n\n
ATTACH;FMTTYPE=image/jpeg:https://breathemiami.us/wp-content/uploads/2023/
 10/santas-enchanted-1-cjf.jpg
CATEGORIES:Things To Do
LOCATION:Santa’s Enchanted Forest\, 7400 NW 87th Ave\, Miami\, Florida\, 
 33166\, United States
X-APPLE-STRUCTURED-LOCATION;VALUE=URI;X-ADDRESS=7400 NW 87th Ave\, Miami\, 
 Florida\, 33166\, United States;X-APPLE-RADIUS=100;X-TITLE=Santa’s Encha
 nted Forest:geo:0,0
END:VEVENT
BEGIN:VTIMEZONE
TZID:America/New_York
X-LIC-LOCATION:America/New_York
BEGIN:STANDARD
DTSTART:20231105T010000
TZOFFSETFROM:-0400
TZOFFSETTO:-0500
TZNAME:EST
END:STANDARD
END:VTIMEZONE
END:VCALENDAR