BEGIN:VCALENDAR
VERSION:2.0
PRODID:-//wp-events-plugin.com//7.2.3.1//EN
TZID:America/New_York
X-WR-TIMEZONE:America/New_York
BEGIN:VEVENT
UID:1404@breathemiami.us
DTSTART;TZID=America/New_York:20251215T180000
DTEND;TZID=America/New_York:20251215T210000
DTSTAMP:20251126T191525Z
URL:https://breathemiami.us/events/samadi-sound-bath-karma-hacking-with-sw
 ami-revatikaanta-jennifer-denali-20251215/
SUMMARY:Samadi Sound Bath - Karma Hacking with Swami Revatikaanta & Jennife
 r Denali
DESCRIPTION:\nYou're Cordially Invited\n\n\n\n\n\nBreak karmic cycles throu
 gh Vedic wisdom\, sound healing\, &amp\; gourmet dinner in a luxury settin
 g. BREAK THE CYCLE. AWAKEN THE SOUL. KARMA - HACKING.\n\n\n\n\n\n\nIntimat
 e\, sacred\, limited to 14 spaces\n\nOverview\n\n\n\n\nJoin us for an excl
 usive sound bath and spiritual evening focused on freeing yourself from ka
 rmic cycles\, held in a luxury wellness home with a vegetarian dinner and 
 connection on the patio.\n\nExperience timeless teachings on karma and lib
 eration with Swami Revatikaanta of Bhakti Marga\, and an immersive sound
  healing journey led by Jennifer Denali\, founder of Samadi Soul Ceremony
 .\n\nHosted at Sabia Wellness House\, a sanctuary designed for deep heali
 ng in a natural\, intentionally non-toxic space.\n\n🗓️ Date: Monday\,
  December 15\n\n⏱️ Time: 6:00PM – 9:00PM EST\n\n🏰 Where: SABIA W
 ELLNESS HOUSE\nWhat to Expect\n✦ A 3-HOUR SACRED CIRCLE (15 PPL)\n\n✦ 
 DISCOURSE ON KARMA &amp\; THE BHAGAVAD GITA\n\n✦ SOUND BATH WITH VEDIC M
 ANTRAS &amp\; VIBRATIONAL THERAPY\n\n✦ PRE CEREMONY - MINERAL DIPPING PO
 OL\n\n✦ GOURMET VEGETARIAN DINNER BY PRIVATE COOK\n\n✦ LUXURY SETTING 
 AT SABIA WELLNESS HOUSE - MIAMI BEACH\n\n✦ INTENTIONALLY DESIGNED ECO - 
 CONSCIOUS SPACE\n\n✦ A TRANSFORMATIONAL INVESTMENT IN SELF\n📌Importan
 t information\n\n 	Limited Spaces Available\n 	This intimate gathering is 
 limited to 14 guests.\n 	RSVP by December 5 to reserve your place.\n\n📝
 Note\n\n 	Proceeds support Bhakti Marga and production costs.\n\n\n\n\n\n\
 n\n
ATTACH;FMTTYPE=image/jpeg:https://breathemiami.us/wp-content/uploads/2025/
 11/samadi_soul_karma_hacking_swami_revatikaanta_jennifer_denali_v2-scaled.
 jpg
CATEGORIES:Featured Events,Mindfulness Events,Things To Do,Wellness Events
LOCATION:Sabia Wellness House\, 1320 Flamingo Way\, Miami Beach\, FL\, 3313
 9\, United States
X-APPLE-STRUCTURED-LOCATION;VALUE=URI;X-ADDRESS=1320 Flamingo Way\, Miami B
 each\, FL\, 33139\, United States;X-APPLE-RADIUS=100;X-TITLE=Sabia Wellnes
 s House:geo:0,0
END:VEVENT
BEGIN:VTIMEZONE
TZID:America/New_York
X-LIC-LOCATION:America/New_York
BEGIN:STANDARD
DTSTART:20251102T010000
TZOFFSETFROM:-0400
TZOFFSETTO:-0500
TZNAME:EST
END:STANDARD
END:VTIMEZONE
END:VCALENDAR