BEGIN:VCALENDAR
VERSION:2.0
PRODID:-//wp-events-plugin.com//7.2.3.1//EN
TZID:America/New_York
X-WR-TIMEZONE:America/New_York
BEGIN:VEVENT
UID:914@breathemiami.us
DTSTART;TZID=America/New_York:20241017T173000
DTEND;TZID=America/New_York:20241017T213000
DTSTAMP:20240929T090823Z
URL:https://breathemiami.us/events/samadi-soul-ceremony/
SUMMARY:Samadi Soul Ceremony
DESCRIPTION:On Thursday\, October 17\, the Faena Hotel will host the Samadi
  Soul Ceremony\, an enchanting evening dedicated to sound healing\, breath
 work\, and shamanic practices. Beginning at 6:30 p.m. on Faena Beach\, thi
 s transformative event will conclude with a post-ceremony gathering in the
  serene Mammoth Garden\, providing an ideal setting for personal reflectio
 n and a deep connection with sacred traditions.\n\nThe ceremony will be gu
 ided by Nana Marina\, a respected spiritual leader from the Mayan Tz'utuji
 l Tribe of Guatemala. Participants will engage in a Mayan Cacao Ceremony\,
  experience rejuvenating breathwork\, and partake in a Full Moon Metallic 
 Samadi Sound Bath. Attendees will be led through meditation\, sacred chant
 s\, and ancient rituals by an esteemed group of spiritual leaders\, includ
 ing Bianca Fontana\, Jennifer Denali\, Mitchell Raisman\, Agustina Caminos
 \, Gabriella Morell Zucker\, and Jared Bistrong. This event draws on a ric
 h tapestry of spiritual traditions\, inviting participants on a profound j
 ourney of healing and connection to ancestral wisdom and the nurturing ene
 rgies of Pachamama.\n\nCheck-in will commence at 5:30 p.m. at Mammoth Gard
 en\, where participants can gather and prepare for the evening's activitie
 s. The event will culminate in a closing ceremony at 9:30 p.m. in the gard
 en\, allowing for a reflective conclusion to the experience.\n\nEvent High
 lights:\n\n 	Opening Breathwork Ceremony: Guided by Bianca Fontana\, this 
 session will set a harmonious tone for the evening and help participants g
 round themselves in the present moment.\n 	Mayan Cacao Ceremony: Led by Na
 na Marina\, this sacred ritual connects participants with the rich history
  and traditions of the ancient Mayans\, fostering a deeper understanding o
 f their cultural heritage.\n 	Full Moon Metallic Samadi Sound Bath: Attend
 ees will immerse themselves in healing vibrations\, created by Jennifer De
 nali\, Mitchell Raisman\, Agustina Caminos\, Gabriella Morell Zucker\, and
  Jared Bistrong\, as they experience the soothing power of sound under the
  full moon.\n\nJoin this unique gathering to explore the depths of your sp
 irit\, reconnect with sacred traditions\, and experience the profound heal
 ing that awaits in this enchanting evening of Samadi Soul Ceremony.\n\nGET
  TICKETS\n
ATTACH;FMTTYPE=image/jpeg:https://breathemiami.us/wp-content/uploads/2024/
 09/Samadi-Soul-Ceremony.jpg
CATEGORIES:Things To Do,Wellness Events
LOCATION:Fontainebleau Miami Beach\,  4441 Collins Ave. Miami Beach\, Miami
 \, Florida\, 33140\, FL\, United States
X-APPLE-STRUCTURED-LOCATION;VALUE=URI;X-ADDRESS= 4441 Collins Ave. Miami Be
 ach\, Miami\, Florida\, 33140\, FL\, United States;X-APPLE-RADIUS=100;X-TI
 TLE=Fontainebleau Miami Beach:geo:0,0
END:VEVENT
BEGIN:VTIMEZONE
TZID:America/New_York
X-LIC-LOCATION:America/New_York
BEGIN:DAYLIGHT
DTSTART:20240310T030000
TZOFFSETFROM:-0500
TZOFFSETTO:-0400
TZNAME:EDT
END:DAYLIGHT
END:VTIMEZONE
END:VCALENDAR