BEGIN:VCALENDAR
VERSION:2.0
PRODID:-//wp-events-plugin.com//7.2.3.1//EN
TZID:America/New_York
X-WR-TIMEZONE:America/New_York
BEGIN:VEVENT
UID:557@breathemiami.us
DTSTART;TZID=America/New_York:20240702T190000
DTEND;TZID=America/New_York:20240702T203000
DTSTAMP:20240623T175508Z
URL:https://breathemiami.us/events/sacred-feminine-gathering-women-circle/
SUMMARY:Sacred Feminine Gathering/ Women Circle
DESCRIPTION:Join us for an enchanting evening of love\, light\, and voice a
 ctivation as we come together to celebrate the power of connection. This g
 athering offers a safe\, judgment-free space where you can express the tru
 th of your soul without expectations\, pressure\, or distractions.\n\nExpe
 rience the Power of Womanhood: Our circles provide a shared experience of 
 womanhood that fosters deep connections and unity. This space allows for g
 enuine listening and relating to one another\, free from judgment or the n
 eed to offer unsolicited advice. Here\, you will be fully heard and fully 
 held\, embracing the support of the circle.\n\nWhat to Expect:\n\n 	Short 
 Grounding Practice: Begin with a grounding exercise to center yourself and
  prepare for the evening's journey.\n 	Breath Work: Engage in breath work 
 to enhance relaxation and presence.\n 	Sacred Cacao Ceremony: Experience t
 he heart-opening benefits of sacred cacao\, fostering deeper connection an
 d introspection.\n 	Healing Movement: Participate in gentle\, healing move
 ments to release tension and promote well-being.\n 	Guided Visualization: 
 Journey inward with guided visualization\, tapping into your inner wisdom 
 and clarity.\n 	Sound Healing: Immerse yourself in the soothing sounds of 
 healing instruments\, facilitating a state of peace and balance.\n 	Sharin
 g and Connecting: Share your experiences and listen to others in a support
 ive environment\, strengthening the bonds of sisterhood.\n\nAn Evening of 
 Transformation: This sacred gathering is an invitation to nurture your sou
 l and connect with like-minded women in a profound and meaningful way. Emb
 race the opportunity to explore your inner self\, heal\, and grow in a cir
 cle of love and light. Join us and be part of a powerful evening that cele
 brates the sacred feminine energy within us all.\n\nGET TICKETS\n
ATTACH;FMTTYPE=image/jpeg:https://breathemiami.us/wp-content/uploads/2024/
 06/Sacred-Feminine-Gathering-Women-Circle.jpg
CATEGORIES:Mindfulness Events,Wellness Events
LOCATION:2nd Street\, 2nd Street Miami Beach\, Miami\, Florida\, 33139\, Un
 ited States
X-APPLE-STRUCTURED-LOCATION;VALUE=URI;X-ADDRESS=2nd Street Miami Beach\, Mi
 ami\, Florida\, 33139\, United States;X-APPLE-RADIUS=100;X-TITLE=2nd Stree
 t:geo:0,0
END:VEVENT
BEGIN:VTIMEZONE
TZID:America/New_York
X-LIC-LOCATION:America/New_York
BEGIN:DAYLIGHT
DTSTART:20240310T030000
TZOFFSETFROM:-0500
TZOFFSETTO:-0400
TZNAME:EDT
END:DAYLIGHT
END:VTIMEZONE
END:VCALENDAR