BEGIN:VCALENDAR
VERSION:2.0
PRODID:-//wp-events-plugin.com//7.2.3.1//EN
TZID:America/New_York
X-WR-TIMEZONE:America/New_York
BEGIN:VEVENT
UID:704@breathemiami.us
DTSTART;TZID=America/New_York:20240818T073000
DTEND;TZID=America/New_York:20240818T083000
DTSTAMP:20240810T154222Z
URL:https://breathemiami.us/events/runadic-lululemon-membership-summer-ser
 ies/
SUMMARY:RunAdic| lululemon Membership Summer Series
DESCRIPTION:Join the vibrant running community of Miami with lululemon's Su
 mmer Series\, designed to bring together runners from across the city. Spa
 nning from June to August\, this series kicks off on June 5th in celebrati
 on of Global Running Day and supports 11 distinct running crews throughout
  Miami. This season is all about connection\, community\, and celebrating 
 the spirit of running.\n\nFeatured Run Crews:\n\n 	The Herd led by Ivan La
 nz\n 	Run Little Havana led by David Vargas\n 	iRun led by Hector Arana\n 
 	Women Run Wynwood led by Grisell Rodriguez\n 	Kingdom Culture Running Clu
 b led by Anacaril Jovellar\n 	Running Edge 305 led by Ashley Toussaint\n 	
 Miramar Run Club led by Yvan Cenecharles\n 	RunAdic led by Elliott Mason\n
  	Team FDC led by Jorge Alfonso\n 	No Sleeping Running Club led by Yuri Nu
 nes\n 	Coconut Grove Run Club led by Christian Diaz\n\nSummer Series Goals
 :\n\nThroughout the Summer Series\, participants are encouraged to join as
  many run crews as possible\, fostering new friendships and strengthening 
 connections within the Miami running community. Whether you're a seasoned 
 runner or just starting out\, this series offers a supportive and energeti
 c environment for all levels.\n\nRun Miami Passport:\n\nAt the Global Runn
 ing Day launch\, lululemon will introduce the Run Miami passport book\, yo
 ur ticket to pace with us throughout the summer. Collect a unique sticker 
 each time you join one of these curated running experiences. By the end of
  the series\, you'll not only have a completed passport but also a wealth 
 of memories and connections from your summer runs.\n\nUpcoming Event - Run
 Adic:\n\nOn August 18th\, don’t miss the opportunity to support Elliott 
 Mason of RunAdic. Meet us at 7:30 AM at sweetgreen Aventura for a 3-mile r
 un. This is your chance to be part of an inspiring community and add anoth
 er sticker to your Run Miami passport.\n\nHow to Get Involved:\n\nMeet us 
 at each of these incredible locations across Miami to participate in this 
 exciting\, city-wide running series. This is your chance to engage with lo
 cal run clubs\, enjoy the camaraderie of fellow runners\, and immerse your
 self in the magic of Miami’s running culture.\n\nLace up your shoes\, gr
 ab your passport\, and get ready to run with us this summer!\n\nGET TICKET
 S\n
ATTACH;FMTTYPE=image/jpeg:https://breathemiami.us/wp-content/uploads/2024/
 08/unAdic-lululemon-Membership-Summer-Series.jpg
CATEGORIES:Mindfulness Events,Sports &amp; Fitness Events,Things To
 Do,Wellness Events
LOCATION:sweetgreen\, 19505 Biscayne Boulevard #Suite 2160 Miami\, Miami\, 
 Florida\, 33180\, FL\, United States
X-APPLE-STRUCTURED-LOCATION;VALUE=URI;X-ADDRESS=19505 Biscayne Boulevard #S
 uite 2160 Miami\, Miami\, Florida\, 33180\, FL\, United States;X-APPLE-RAD
 IUS=100;X-TITLE=sweetgreen:geo:0,0
END:VEVENT
BEGIN:VTIMEZONE
TZID:America/New_York
X-LIC-LOCATION:America/New_York
BEGIN:DAYLIGHT
DTSTART:20240310T030000
TZOFFSETFROM:-0500
TZOFFSETTO:-0400
TZNAME:EDT
END:DAYLIGHT
END:VTIMEZONE
END:VCALENDAR