BEGIN:VCALENDAR
VERSION:2.0
PRODID:-//wp-events-plugin.com//7.2.3.1//EN
TZID:America/New_York
X-WR-TIMEZONE:America/New_York
BEGIN:VEVENT
UID:769@breathemiami.us
DTSTART;TZID=America/New_York:20240928T073000
DTEND;TZID=America/New_York:20240928T103000
DTSTAMP:20240825T095522Z
URL:https://breathemiami.us/events/run-for-coffee-lovers-5k-10k-13-1-miami
 /
SUMMARY:Run for Coffee Lovers 5K/10K/13.1 MIAMI
DESCRIPTION:Calling all coffee enthusiasts! The Run for Coffee Lovers event
  is designed just for you. Join us for a fun and invigorating run\, and en
 joy a coffee-themed shirt to commemorate your participation. Opt for the "
 Extras" package\, and we’ll even send you a sample of coffee to savor!\n
 Event Overview\n\n 	Limited Availability: This event is expected to sell o
 ut quickly\, with waves closing as soon as they are full. If your desired 
 wave is sold out\, consider signing up for the virtual run option or join 
 the waitlist.\n 	Intimate Groups: Each wave is limited to 15-20 participan
 ts\, ensuring a personalized experience.\n 	All Paces Welcome: Whether you
 're a seasoned runner or prefer a leisurely walk\, this event is open to a
 ll ages (participants under 18 must be accompanied by a guardian).\n\nEven
 t Details\n\n 	No Timing Chips: Enjoy a relaxed experience without timing 
 chips. If you wish to track your time\, our coordinators will assist you o
 n race day. They will guide you through a simple process to record your st
 art and finish times using the bib numbers provided.\n\nWhat You Receive (
 Swag Bag)\n\n 	Running T-Shirt: Shipped to your US address (make sure to i
 nclude all address details).\n 	Finisher’s Towel or Giveaway: A special 
 token of accomplishment.\n 	Finisher’s Medal: Sent to you after the race
 —email us to claim yours!\n 	Training Pack &amp\; Free Giveaways: Extra 
 goodies to enhance your running journey.\n 	Technical Running Shirts (Opti
 onal): Upgrade to a lightweight\, moisture-wicking shirt for just $5 more.
 \n 	RUNNA Coaching Program (Optional): Enjoy a free trial of Runna’s coa
 ching program using code: BESTRACES. Benefit from tailored training plans 
 to help you reach your running goals\, from faster 5Ks to your first marat
 hon.\n\nPacket Pickup\n\n 	No Pickup Required: All swag will be shipped di
 rectly to your address. Ensure your US mailing address is complete and cor
 rectly spelled.\n 	Race Bibs: Distributed on race day.\n\nSwag Delivery\n\
 n 	Your shirt will arrive at your mailing address during the week of the r
 ace.\n\nRace Updates\n\n 	A final update with race details and course maps
  will be emailed the Wednesday before the event.\n\nLast-Minute Registrati
 ons\n\n 	Yes\, last-minute registrations are accepted up to two weeks befo
 re the race. Please note\, however\, that shirts may arrive after the even
 t. Feel free to wear any appropriate shirt for the run!\n\nSecure your spo
 t\, enjoy a great run\, and celebrate your love for coffee with us!\n\nGET
  TICKETS\n
ATTACH;FMTTYPE=image/jpeg:https://breathemiami.us/wp-content/uploads/2024/
 08/Run-for-Coffee-Lovers.jpg
CATEGORIES:Sports &amp; Fitness Events,Things To Do,Wellness Events
LOCATION:Playita\, Playita Key Biscayne\, Miami\, Florida\, 33149\, FL\, Un
 ited States
X-APPLE-STRUCTURED-LOCATION;VALUE=URI;X-ADDRESS=Playita Key Biscayne\, Miam
 i\, Florida\, 33149\, FL\, United States;X-APPLE-RADIUS=100;X-TITLE=Playit
 a:geo:0,0
END:VEVENT
BEGIN:VTIMEZONE
TZID:America/New_York
X-LIC-LOCATION:America/New_York
BEGIN:DAYLIGHT
DTSTART:20240310T030000
TZOFFSETFROM:-0500
TZOFFSETTO:-0400
TZNAME:EDT
END:DAYLIGHT
END:VTIMEZONE
END:VCALENDAR