BEGIN:VCALENDAR
VERSION:2.0
PRODID:-//wp-events-plugin.com//7.2.3.1//EN
TZID:America/New_York
X-WR-TIMEZONE:America/New_York
BEGIN:VEVENT
UID:1137@breathemiami.us
DTSTART;TZID=America/New_York:20241119T180000
DTEND;TZID=America/New_York:20241119T200000
DTSTAMP:20241023T074653Z
URL:https://breathemiami.us/events/rooftop-sunset-yoga-live-music-with-cac
 ao-blessing/
SUMMARY:Rooftop Sunset Yoga + Live Music with Cacao Blessing
DESCRIPTION:This unique experience begins with participants enjoying a warm
  cup of cacao while engaging in a heart-opening meditation. Led by Tania C
 astellanos\, the cacao blessing sets the tone for the evening\, inviting p
 articipants to relax and connect with their hearts. Following this\, Radha
  guides attendees through a gentle Yin yoga flow\, designed to awaken and 
 rejuvenate the body.\n\nWhat elevates this experience is the enchanting li
 ve music provided by Benjamin Smiles and his friends. Their soulful melodi
 es create a harmonious atmosphere that resonates with the beauty of the su
 nset\, allowing the urban noise to fade away. As the sun sets\, participan
 ts can immerse themselves in the soothing sounds of the music\, creating a
  serene backdrop for their practice.\n\nTo conclude the evening\, Radha an
 d Carmen Matta facilitate a sound bath\, where participants can melt into 
 alignment and let the healing vibrations of sound bowls foster a sense of 
 balance across mind\, body\, and spirit.\n\nFacilitators:\n\n 	Live Music:
  Benjamin Smiles &amp\; friends (@bens_smiles)\n 	Cacao Blessing: Tania Ca
 stellanos (@yogaattitude)\n 	Yin Yoga: Radha (@radha_krishnalila)\n 	Sound
  Bath: Radha and Carmen Matta (@carmenyoga7)\n\nLocation: Urbanica Fifth H
 otel\, 803 5th Street Rooftop\, Miami Beach\, FL 33139\n\nWhat to Bring: Y
 oga mat\, pillow\, and any yoga props you wish to use\, such as a block.\n
 \nImportant Information:\n\n 	Duration: 2 to 2.5 hours\n 	Ticket Requireme
 nt: Mobile ticket needed\n 	Experience Level: Open to all levels\n 	Arriva
 l: Please arrive early\n 	Event Type: Substance-free\n\nEvening Schedule:\
 n\n 	5:30 PM: Doors open\n 	6:00 PM: Opening Cacao Blessing\n 	6:30 PM: Ge
 ntle Yin Flow\n 	7:00 PM: Sound Bath\n 	7:45 PM: Closing\n 	8:00 PM: Socia
 l hour\, community connection\, and conscious shopping\n\nVendors:\n\n 	Nu
 be de ojo: Handcrafted clothing\n 	Feeling Gut Tea: Organic matcha\n 	TATI
 luDesigns: Original jewelry\n\nStay connected and follow us on Instagram: 
 @radha_krsnalila and @bens_smiles.\n\nGET TICKETS\n
ATTACH;FMTTYPE=image/jpeg:https://breathemiami.us/wp-content/uploads/2024/
 10/Rooftop-Sunset-Yoga-Live-Music-with-Cacao-Blessing.jpg
CATEGORIES:Wellness Events
LOCATION:Urbanica Fifth Hotel\, 803 5th Street Rooftop \, Miami Beach\, Flo
 rida\, 33139\, FL\, United States
X-APPLE-STRUCTURED-LOCATION;VALUE=URI;X-ADDRESS=803 5th Street Rooftop \, M
 iami Beach\, Florida\, 33139\, FL\, United States;X-APPLE-RADIUS=100;X-TIT
 LE=Urbanica Fifth Hotel:geo:0,0
END:VEVENT
BEGIN:VTIMEZONE
TZID:America/New_York
X-LIC-LOCATION:America/New_York
BEGIN:STANDARD
DTSTART:20241103T010000
TZOFFSETFROM:-0400
TZOFFSETTO:-0500
TZNAME:EST
END:STANDARD
END:VTIMEZONE
END:VCALENDAR