BEGIN:VCALENDAR
VERSION:2.0
PRODID:-//wp-events-plugin.com//7.2.3.1//EN
TZID:America/New_York
X-WR-TIMEZONE:America/New_York
BEGIN:VEVENT
UID:354@breathemiami.us
DTSTART;TZID=America/New_York:20240314T180000
DTEND;TZID=America/New_York:20240314T203000
DTSTAMP:20240324T004852Z
URL:https://breathemiami.us/events/revitalizeher-holistic-wellness/
SUMMARY:RevitalizeHER: Holistic Wellness Social
DESCRIPTION:RevitalizeHER: An Evening of Holistic Wellness with Culture Chi
 ropractic\n\nIndulge in an evening dedicated to your wellness at the Revit
 alizeHER event\, in collaboration with Culture Chiropractic. Hosted at the
  serene premises of Culture Chiropractic\, you're invited to a nurturing a
 nd rejuvenating experience that promises to leave you feeling refreshed an
 d invigorated.\n\nHere's a glimpse of what to expect at the event:\n\n6:00
 -6:30 PM: Arrival and Welcome\nUpon arrival\, you'll be greeted with a war
 m welcome and invited to enjoy an array of light bites and drinks. Take th
 is time to unwind and connect with other like-minded women.\n\n6:30-7:00 P
 M: Vinyasa Flow Yoga\nGet ready to stretch and flow with a 30-minute Vinya
 sa yoga session. Don't forget to bring your own yoga mat for maximum comfo
 rt.\n\n7:00-8:30 PM: Complimentary Mini Services\nPost-yoga\, treat yourse
 lf to a range of mini services\, all complimentary courtesy of Culture Chi
 ropractic. Indulge in a chiropractic adjustment (choose one area)\, a post
 ure analysis session\, and pampering mini sessions such as chair massage\,
  stress-relief acupuncture\, and laser body sculpting.\n\nRemember\, servi
 ces are available on a first-come\, first-serve basis. Sign up at the even
 t to secure your spot.\n\nThroughout the evening\, you'll be treated to mo
 re light bites and drinks\, ensuring you stay nourished and hydrated.\n\nA
 bout Culture Chiropractic:\nCulture Chiropractic\, founded by Dr. Patricia
  Gomez and Dr. Michael Tonry\, is a haven for those seeking specialized ca
 re during pregnancy\, postpartum\, and pediatric phases. Their team of pas
 sionate chiropractors is dedicated to promoting optimal health and well-be
 ing for expectant mothers\, new parents\, and their little ones.\n\nDon't 
 miss the chance to connect with like-hearted women and enjoy a night of we
 llness\, relaxation\, and rejuvenation at the RevitalizeHER event\, hosted
  by The Beauty Boost Fort Lauderdale.\n\nFor more details and tickets\, vi
 sit thebeautyboostfortlauderdale.com.\n\n\n\nGET TICKETS\n\n
CATEGORIES:Wellness Events
LOCATION:Culture Chiropractic\, 1700 North University Drive #301 Coral Spri
 ngs\, Miami\, Florida\, 33071\, United States
X-APPLE-STRUCTURED-LOCATION;VALUE=URI;X-ADDRESS=1700 North University Drive
  #301 Coral Springs\, Miami\, Florida\, 33071\, United States;X-APPLE-RADI
 US=100;X-TITLE=Culture Chiropractic:geo:0,0
END:VEVENT
BEGIN:VTIMEZONE
TZID:America/New_York
X-LIC-LOCATION:America/New_York
BEGIN:DAYLIGHT
DTSTART:20240310T030000
TZOFFSETFROM:-0500
TZOFFSETTO:-0400
TZNAME:EDT
END:DAYLIGHT
END:VTIMEZONE
END:VCALENDAR