BEGIN:VCALENDAR
VERSION:2.0
PRODID:-//wp-events-plugin.com//7.2.3.1//EN
TZID:America/New_York
X-WR-TIMEZONE:America/New_York
BEGIN:VEVENT
UID:737@breathemiami.us
DTSTART;TZID=America/New_York:20240907T100000
DTEND;TZID=America/New_York:20240907T113000
DTSTAMP:20240823T110655Z
URL:https://breathemiami.us/events/restore-your-pelvic-floor-yoga-and-soun
 d-healing-workshop/
SUMMARY:Restore Your Pelvic Floor: Yoga and Sound Healing Workshop
DESCRIPTION:Join us for a transformative workshop sponsored by Pelvic Floor
  Therapy South Florida and Dr. Krisa Gattas\, featuring a unique blend of 
 yoga and sound healing. This special event will be led by Katie Doyle\, a 
 certified yoga and meditation instructor\, sound healer\, and holistic hea
 lth coach. As the owner of Bloomburst\, a comprehensive wellness boutique\
 , Katie brings her expertise in holistic practices to this restorative ses
 sion.\n\nParticipants will engage in a soothing yet effective yoga practic
 e designed to release and rejuvenate the pelvic floor muscles. Katie will 
 guide attendees through gentle movements aimed at calming the mind and rel
 axing the body. The workshop will conclude with a meditative sound bowl se
 ssion\, offering a profound sense of relaxation and tranquility.\n\nThis w
 orkshop is open to all levels\, with no prior experience in yoga or medita
 tion required. It’s an ideal opportunity for anyone looking to enhance t
 heir well-being and connect with their inner self through guided practice 
 and sound therapy. Come and experience the restorative power of this combi
 ned approach to wellness and find balance in both body and mind.\n\nGET TI
 CKETS\n
ATTACH;FMTTYPE=image/jpeg:https://breathemiami.us/wp-content/uploads/2024/
 08/Restore-Your-Pelvic-Floor-Yoga-and-Sound-Healing-Workshop.jpg
CATEGORIES:Mindfulness Events,Things To Do,Wellness Events
LOCATION:Pelvic Therapy South Florida\, 4100 Salzedo Street #Suite 6 Coral 
 Gables\, Miami\, Florida\, 33146\, FL\, United States
X-APPLE-STRUCTURED-LOCATION;VALUE=URI;X-ADDRESS=4100 Salzedo Street #Suite 
 6 Coral Gables\, Miami\, Florida\, 33146\, FL\, United States;X-APPLE-RADI
 US=100;X-TITLE=Pelvic Therapy South Florida:geo:0,0
END:VEVENT
BEGIN:VTIMEZONE
TZID:America/New_York
X-LIC-LOCATION:America/New_York
BEGIN:DAYLIGHT
DTSTART:20240310T030000
TZOFFSETFROM:-0500
TZOFFSETTO:-0400
TZNAME:EDT
END:DAYLIGHT
END:VTIMEZONE
END:VCALENDAR