BEGIN:VCALENDAR
VERSION:2.0
PRODID:-//wp-events-plugin.com//7.2.3.1//EN
TZID:America/New_York
X-WR-TIMEZONE:America/New_York
BEGIN:VEVENT
UID:1240@breathemiami.us
DTSTART;TZID=America/New_York:20250227T183000
DTEND;TZID=America/New_York:20250227T193000
DTSTAMP:20250211T164416Z
URL:https://breathemiami.us/events/restorative-soundbath-meditation-with-f
 ranci-blanco-2/
SUMMARY:Restorative Soundbath Meditation with Franci Blanco
DESCRIPTION:Immerse yourself in a deeply restorative experience designed to
  reset the mind\, recharge the body\, and elevate the spirit. Join Franci 
 Blanco for a transformative Soundbath Meditation\, where soothing soundwav
 es and mindful breathwork merge to create an atmosphere of tranquility and
  inner harmony.\n\nA Journey of Deep Relaxation\nParticipants will begin w
 ith 20 minutes of guided yogic breathwork\, allowing them to cultivate a d
 eep sense of presence and relaxation. This practice prepares the body and 
 mind to fully absorb the healing frequencies that follow.\n\nThe session t
 hen transitions into a 30-minute immersive sound bath journey\, featuring 
 a harmonic blend of crystal singing bowls and other resonant instruments. 
 These therapeutic sound vibrations gently guide the nervous system into a 
 state of profound calm\, helping to release tension\, alleviate stress\, a
 nd promote overall well-being.\nEvent Details\n💰 Investment: $25 per pe
 rson\n🧘‍♀️ What to Bring: A yoga mat for comfort during the sessi
 on\n🚪 Punctuality Notice: Doors will close promptly at 6:40 PM to maint
 ain a distraction-free environment and ensure an uninterrupted experience 
 for all attendees.\n\nWhether you are seeking relaxation\, energetic balan
 ce\, or a deeper connection with yourself\, this Restorative Soundbath Med
 itation offers a sanctuary for rejuvenation and peace. Allow the power of 
 sound and breath to guide you into a state of profound serenity.\n\nReserv
 e your space and embark on a journey of inner renewal.\n\nGET TICKETS\n\n&
 nbsp\;
ATTACH;FMTTYPE=image/jpeg:https://breathemiami.us/wp-content/uploads/2025/
 02/Restorative-Soundbath-Meditation-with-Franci-Blanco.jpeg
CATEGORIES:Wellness Events
LOCATION:Brockway Memorial Library\, 10021 Northeast 2nd Avenue Miami Shore
 s\,\, Miami Avenue\, United States\,  33138 \,  FL \, United States
X-APPLE-STRUCTURED-LOCATION;VALUE=URI;X-ADDRESS=10021 Northeast 2nd Avenue 
 Miami Shores\,\, Miami Avenue\, United States\,  33138 \,  FL \, United St
 ates;X-APPLE-RADIUS=100;X-TITLE=Brockway Memorial Library:geo:0,0
END:VEVENT
BEGIN:VTIMEZONE
TZID:America/New_York
X-LIC-LOCATION:America/New_York
BEGIN:STANDARD
DTSTART:20241103T010000
TZOFFSETFROM:-0400
TZOFFSETTO:-0500
TZNAME:EST
END:STANDARD
END:VTIMEZONE
END:VCALENDAR