BEGIN:VCALENDAR
VERSION:2.0
PRODID:-//wp-events-plugin.com//7.2.3.1//EN
TZID:America/New_York
X-WR-TIMEZONE:America/New_York
BEGIN:VEVENT
UID:702@breathemiami.us
DTSTART;TZID=America/New_York:20240811T140000
DTEND;TZID=America/New_York:20240811T150000
DTSTAMP:20240806T132424Z
URL:https://breathemiami.us/events/resistance-training-at-faenas-gym/
SUMMARY:Resistance Training at Faena's Gym
DESCRIPTION:Join us every Sunday from 2 to 3 PM at the luxurious Faena Hote
 l gym for a transformative resistance training session designed to build m
 uscle\, boost health\, and extend your vitality.\n\nWhy Resistance Trainin
 g?\n\nMuscle strength is crucial for overall health\, enhancing metabolic 
 rate\, improving bone density\, and supporting joint health. Our resistanc
 e training program is crafted to help you achieve these benefits in a supp
 ortive and motivating environment.\n\nWhat to Expect:\n\n 	Professional Gu
 idance: Each session is led by a certified fitness trainer who will guide 
 you through a series of exercises tailored to your fitness level. From beg
 inners to seasoned athletes\, our program is designed to challenge and imp
 rove your strength and endurance.\n 	Comprehensive Workout: Engage in a va
 riety of resistance exercises using free weights\, resistance bands\, and 
 state-of-the-art gym equipment. Focus on major muscle groups to ensure a b
 alanced and effective workout.\n 	Health Benefits: Regular resistance trai
 ning can help improve muscle mass\, boost metabolism\, enhance cardiovascu
 lar health\, and promote better posture and balance. It’s an essential c
 omponent of a long-term fitness plan for health and longevity.\n 	Luxury S
 etting: Experience your workout in the elegant and well-equipped Faena Hot
 el gym. Enjoy the serene environment and high-quality facilities that make
  your fitness journey both effective and enjoyable.\n\nHighlights:\n\n 	We
 ekly Commitment: Consistency is key to achieving your fitness goals. Join 
 us every Sunday to establish a routine that promotes continuous improvemen
 t and lasting results.\n 	Personalized Attention: Benefit from the experti
 se of our fitness trainers who will ensure your form and technique are per
 fect\, maximizing your workout efficiency and preventing injury.\n 	Commun
 ity Atmosphere: Work out alongside a community of like-minded individuals 
 who share your commitment to health and wellness. Encourage each other and
  celebrate your progress together.\n\nStrengthen your body and enhance you
 r life with our Resistance Training sessions at Faena's Gym. Sign up today
  and take the first step towards a healthier\, stronger you!\n\nGET TICKET
 S\n
ATTACH;FMTTYPE=image/jpeg:https://breathemiami.us/wp-content/uploads/2024/
 08/Resistance-Training-at-Faenas-Gym.jpg
CATEGORIES:Mindfulness Events,Sports &amp; Fitness Events,Things To
 Do,Wellness Events
LOCATION:Faena Hotel\, 3201 Collins Avenue\, Miami Beach\, FL\, 33140\, Uni
 ted States
X-APPLE-STRUCTURED-LOCATION;VALUE=URI;X-ADDRESS=3201 Collins Avenue\, Miami
  Beach\, FL\, 33140\, United States;X-APPLE-RADIUS=100;X-TITLE=Faena Hotel
 :geo:0,0
END:VEVENT
BEGIN:VTIMEZONE
TZID:America/New_York
X-LIC-LOCATION:America/New_York
BEGIN:DAYLIGHT
DTSTART:20240310T030000
TZOFFSETFROM:-0500
TZOFFSETTO:-0400
TZNAME:EDT
END:DAYLIGHT
END:VTIMEZONE
END:VCALENDAR