BEGIN:VCALENDAR
VERSION:2.0
PRODID:-//wp-events-plugin.com//7.2.3.1//EN
TZID:America/New_York
X-WR-TIMEZONE:America/New_York
BEGIN:VEVENT
UID:308@breathemiami.us
DTSTART;TZID=America/New_York:20240113T090000
DTEND;TZID=America/New_York:20240113T103000
DTSTAMP:20231227T030957Z
URL:https://breathemiami.us/events/renew-you-session/
SUMMARY:"Renew you" Session
DESCRIPTION:Event Information:\n\nEmbark on a transformative journey into 2
 024 with our exclusive 'Renew You' Session – a guided experience meticul
 ously designed for conscious breathwork and intention setting. Step into t
 he New Year with purpose as we guide you through mindful breathing\, allow
 ing you to release the past and embrace the infinite possibilities that li
 e ahead. Join us for this empowering session\, align your breath with purp
 oseful intentions\, and set the stage for a renewed and intentional start 
 to the year 2024.\n\nDate and Time:Saturday\, January 13\, 2024 · 9 - 10:
 30am EST\n\n\n\n\n\nAbout this event:\n\n\n\n\n\n 	Step into the New Year 
 with the transformative "Renew You" Session at Carillon Miami Wellness Res
 ort. Taking place on Saturday\, January 13\, 2024\, from 9:00 to 10:30 am 
 EST\, this session offers a guided experience of conscious breathwork and 
 intention setting. Immerse yourself in the power of mindful breathing\, re
 leasing the past and embracing the possibilities that the New Year holds.J
 oin us for an empowering session where breath aligns with purposeful inten
 tions\, establishing a positive foundation for the journey ahead. Renew yo
 ur energy and set the stage for a revitalized and intentional start to 202
 4.\n\nDuration: 1 hour 30 minutes\n\nTicket Information:\n\n 	Refund Polic
 y: Contact the organizer to request a refund. Eventbrite's fee is nonrefun
 dable.\n 	Ticket Type: Early Bird\, General Admission\n 	Ticket Price: Var
 ies based on the type of ticket\n\n\nGET TICKETS\n\n\nWorkout Session Deta
 ils:\n\n 	Facilitator: Giselle Fiumara\, a certified Kundalini internation
 al teacher with 440 hours of training in India and the US. She specializes
  in sharing Kundalini technology teachings and is dedicated to building a 
 conscious soul tribe.\n\nEssentials to Bring:\n\n 	A refillable water bott
 le\n 	An open heart\n\nParking Options:\n\n 	Valet parking at Faena Hotel 
 or municipal lot 1 block north of Faena\n
ATTACH;FMTTYPE=image/jpeg:https://breathemiami.us/wp-content/uploads/2023/
 12/https___cdn.evbuc_.com_images_659446519_562332624613_1_original.jpg
CATEGORIES:Wellness Events
LOCATION:Carillon Miami Wellness Resort\, 6801 Collins Avenue Miami Beach\,
  \, Miami Beach\,\, United States\, 33141 \,  FL \, United States
X-APPLE-STRUCTURED-LOCATION;VALUE=URI;X-ADDRESS=6801 Collins Avenue Miami B
 each\, \, Miami Beach\,\, United States\, 33141 \,  FL \, United States;X-
 APPLE-RADIUS=100;X-TITLE=Carillon Miami Wellness Resort:geo:0,0
END:VEVENT
BEGIN:VTIMEZONE
TZID:America/New_York
X-LIC-LOCATION:America/New_York
BEGIN:STANDARD
DTSTART:20231105T010000
TZOFFSETFROM:-0400
TZOFFSETTO:-0500
TZNAME:EST
END:STANDARD
END:VTIMEZONE
END:VCALENDAR