BEGIN:VCALENDAR
VERSION:2.0
PRODID:-//wp-events-plugin.com//7.2.3.1//EN
TZID:America/New_York
X-WR-TIMEZONE:America/New_York
BEGIN:VEVENT
UID:1177@breathemiami.us
DTSTART;TZID=America/New_York:20241122T070000
DTEND;TZID=America/New_York:20241122T084500
DTSTAMP:20241023T170841Z
URL:https://breathemiami.us/events/releaseness-friday-sunrise-yin-yoga-sou
 nd-bath-at-miami-beach/
SUMMARY:ReleaseNESS Friday Sunrise Yin Yoga & Sound Bath at Miami Beach
DESCRIPTION:Begin your Friday with a peaceful and rejuvenating Sunrise Yin 
 Yoga &amp\; Sound Bath\, led by Nesli on the scenic shores of Miami Beach.
  Settle into Yin Yoga poses designed to release tension in the body’s co
 nnective tissues\, improve circulation\, and deepen your mind-body connect
 ion. Accompanied by the soothing sounds of Tibetan and crystal singing bow
 ls\, chimes\, and other healing instruments\, this unique practice promote
 s relaxation\, mental clarity\, and overall well-being.\n\nWhat to Expect\
 nYin Yoga is a slow\, meditative practice focusing on long-held poses to e
 nhance flexibility and joint mobility\, while also cultivating mindfulness
 . As you sink into the poses\, the sound bath will support your experience
  by helping you release stress and restore balance in the body and mind.\n
 \nWhat to Bring:\n\n 	A towel to lie on (instead of a mat\, as the sand pr
 ovides natural cushioning).\n 	Comfortable\, loose-fitting clothing (avoid
  tight leggings for better flow in Yin poses).\n 	Water to stay hydrated.\
 n 	Optional: a swimsuit or shorts for a refreshing dip in the ocean after 
 the session.\n\nImportant Details:\n\n 	Location: 79th Street Beach (pleas
 e check the map for precise location).\n 	Cancellations: The event will be
  canceled if no one signs up in advance. RSVP is required\; no walk-ins al
 lowed. For questions or private sessions\, text Nesli at 646-494-2866.\n 	
 Join sound bath only: Visit Nesli.TV for details.\n\nTerms &amp\; Conditio
 ns:\n\n 	By purchasing a ticket\, you accept the terms and conditions rega
 rding health\, safety\, and liability.\n 	You are responsible for your own
  well-being during the event. Please consult a healthcare professional if 
 needed before attending.\n 	In case of rain\, the event will be reschedule
 d. No refunds are provided\, but your ticket will be honored for the new d
 ate.\n\nStart your day with peace and balance in this sacred setting\, and
  take a step towards nurturing your mind\, body\, and spirit. Join Nesli i
 n this special moment of self-care and renewal!\n\nGET TICKETS\n
ATTACH;FMTTYPE=image/jpeg:https://breathemiami.us/wp-content/uploads/2024/
 10/ReleaseNESS-Friday-Sunrise-Yin-Yoga-Sound-Bath-at-Miami-Beach.jpg
CATEGORIES:Wellness Events
LOCATION:North Shore Park Beach\, 79th Street\, Miami-Dade County\, Florida
 \, 33140\, FL\, United States
X-APPLE-STRUCTURED-LOCATION;VALUE=URI;X-ADDRESS=79th Street\, Miami-Dade Co
 unty\, Florida\, 33140\, FL\, United States;X-APPLE-RADIUS=100;X-TITLE=Nor
 th Shore Park Beach:geo:0,0
END:VEVENT
BEGIN:VTIMEZONE
TZID:America/New_York
X-LIC-LOCATION:America/New_York
BEGIN:STANDARD
DTSTART:20241103T010000
TZOFFSETFROM:-0400
TZOFFSETTO:-0500
TZNAME:EST
END:STANDARD
END:VTIMEZONE
END:VCALENDAR