BEGIN:VCALENDAR
VERSION:2.0
PRODID:-//wp-events-plugin.com//7.2.3.1//EN
TZID:America/New_York
X-WR-TIMEZONE:America/New_York
BEGIN:VEVENT
UID:456@breathemiami.us
DTSTART;TZID=America/New_York:20240514T120000
DTEND;TZID=America/New_York:20240514T130000
DTSTAMP:20240429T210412Z
URL:https://breathemiami.us/events/rediscover-your-energy-womens-biohackin
 g/
SUMMARY:Rediscover your energy: Women's biohacking for peak performance
DESCRIPTION:\nReignite Your Power: Biohacking for Women's Peak Performance 
 (3-Day Mastermind)\nFeeling drained\, stressed\, and disconnected? You're 
 not alone! Many women face these challenges\, hindering their ability to r
 each peak performance. This 3-day masterclass\, "Rediscover Your Energy: W
 omen's Biohacking for Peak Performance\," offers revolutionary solutions.\
 nUnlock Your Inner Powerhouse:\n\n\n 	Biohacking for Women: Master simple 
 biohacking techniques specifically designed to optimize your female body f
 or enhanced physical and mental well-being. See results fast\, in minutes 
 not days!\n 	Stress &amp\; Anxiety Detox: Ditch overwhelming emotions and 
 cultivate laser-sharp focus with proven strategies to combat stress and an
 xiety.\n 	Restful Sleep Mastery: Say goodbye to restless nights! This prog
 ram is packed with methods to achieve deep\, restorative sleep and wake up
  feeling revitalized every day.\n 	Purpose &amp\; Fulfillment: Reconnect w
 ith your inner wisdom and realign with your purpose. This masterclass empo
 wers you to embrace a life filled with meaning and fulfillment.\n\nAre You
  Ready to Rise?\nThis masterclass is designed for high-achieving women who
  are:\n\n\n 	Done with Stress &amp\; Anxiety: Craving inner calm and peace
  of mind.\n 	Seeking Boundless Energy: Ready to unlock boundless energy an
 d ditch the daily drag.\n 	Yearning for Deeper Connection: Longing for pur
 pose\, alignment\, and the power to step into your true potential.\n\nOpti
 mize Your Life in 3 Days:\n\n\n 	Day 1: Energize Your Mornings: Learn powe
 rful biohacking techniques to supercharge your mornings\, setting you up f
 or maximum energy and focus throughout the day.\n 	Day 2: Revitalize Your 
 Afternoons: Combat the afternoon slump with simple strategies to boost ene
 rgy and mental clarity during the critical midday hours.\n 	Day 3: Enhance
  Your Sleep: Master the art of a good night's sleep! Discover proven metho
 ds to maximize your sleep environment and develop habits for deep\, restor
 ative rest.\n\nBonus Community Support:\nJoin a vibrant community of like-
 minded women! This exclusive space offers ongoing connection\, support\, a
 nd accountability\, keeping you motivated on your journey towards peak per
 formance.\nYour Guide: Kris Rice\nKris Rice\, a lifelong biohacking advoca
 te and expert in women's alternative wellness\, will lead this transformat
 ive experience.\nEmbark on Your Transformation:\nReady to rediscover your 
 energy and unlock your true potential? Learn biohacking techniques specifi
 cally tailored for the female body and feel invincible!\nLimited Spots Ava
 ilable!\nRegister today and begin a journey of self-discovery and transfor
 mation that will leave you empowered and thriving. Embrace your peak perfo
 rmance and start living your best life!\n\n\n\nBUY TICKETS\n
ATTACH;FMTTYPE=image/jpeg:https://breathemiami.us/wp-content/uploads/2024/
 04/https___cdn.evbuc_.com_images_745189089_1564946364223_1_original.jpeg
CATEGORIES:Wellness Events
END:VEVENT
BEGIN:VTIMEZONE
TZID:America/New_York
X-LIC-LOCATION:America/New_York
BEGIN:DAYLIGHT
DTSTART:20240310T030000
TZOFFSETFROM:-0500
TZOFFSETTO:-0400
TZNAME:EDT
END:DAYLIGHT
END:VTIMEZONE
END:VCALENDAR