BEGIN:VCALENDAR
VERSION:2.0
PRODID:-//wp-events-plugin.com//7.2.3.1//EN
TZID:America/New_York
X-WR-TIMEZONE:America/New_York
BEGIN:VEVENT
UID:1108@breathemiami.us
DTSTART;TZID=America/New_York:20241025T093000
DTEND;TZID=America/New_York:20241026T180000
DTSTAMP:20241018T054441Z
URL:https://breathemiami.us/events/randy-santos-salsafina-halloween-social
 /
SUMMARY:Randy Santos & SalsaFina Halloween Social
DESCRIPTION:As the witching hour approaches\, the spirits of the dance floo
 r come alive on October 25th for a night of rhythm and revelry at the Hall
 owDance Social Party\, hosted by RS Dance Studio and Salsa Fina. This Hall
 oween-themed event promises an unforgettable evening where the music is ha
 unting\, the dance moves are spine-tingling\, and surprises lurk around ev
 ery corner.\n\nAttendees are encouraged to unleash their creativity and sh
 owcase their most imaginative costumes\, as the dance floor becomes a vibr
 ant stage for both ghouls and goblins. Whether you're a seasoned dancer or
  just looking to have fun\, this social will offer a thrilling atmosphere 
 for everyone to enjoy.\n\nGuests can expect electrifying salsa beats\, thr
 illing dance battles\, and opportunities to connect with fellow dance enth
 usiasts. As the night unfolds\, participants will find themselves immersed
  in a world where the only rule is to embrace the spirit of Halloween whil
 e dancing the night away.\n\nWill you dare to join in the festivities and 
 survive the dance floor? Grab your costume\, summon your courage\, and pre
 pare for a night of fun and fright! The countdown to an enchanting evening
  of dancing begins now—mark your calendars and get ready to experience t
 he magic of HallowDance!\n\nGET TICKETS\n
ATTACH;FMTTYPE=image/jpeg:https://breathemiami.us/wp-content/uploads/2024/
 10/Randy-Santos-SalsaFina-Halloween-Social.jpg
CATEGORIES:Things To Do
LOCATION:Randy Santos Dance Studio\, 8507 Northwest 66th Street \, Miami\, 
 Florida\, 33166\, FL\, United States
X-APPLE-STRUCTURED-LOCATION;VALUE=URI;X-ADDRESS=8507 Northwest 66th Street 
 \, Miami\, Florida\, 33166\, FL\, United States;X-APPLE-RADIUS=100;X-TITLE
 =Randy Santos Dance Studio:geo:0,0
END:VEVENT
BEGIN:VTIMEZONE
TZID:America/New_York
X-LIC-LOCATION:America/New_York
BEGIN:DAYLIGHT
DTSTART:20240310T030000
TZOFFSETFROM:-0500
TZOFFSETTO:-0400
TZNAME:EDT
END:DAYLIGHT
END:VTIMEZONE
END:VCALENDAR