BEGIN:VCALENDAR
VERSION:2.0
PRODID:-//wp-events-plugin.com//7.2.3.1//EN
TZID:America/New_York
X-WR-TIMEZONE:America/New_York
BEGIN:VEVENT
UID:533@breathemiami.us
DTSTART;TZID=America/New_York:20240620T190000
DTEND;TZID=America/New_York:20240620T213000
DTSTAMP:20240609T021049Z
URL:https://breathemiami.us/events/radiant-mind-radiant-skin-workshop/
SUMMARY:Radiant Mind\, Radiant Skin: A Workshop on Mindful Skincare and Med
 itation
DESCRIPTION:Join us for a transformative experience at the "Radiant Mind\, 
 Radiant Skin" workshop\, held at 14575 Northwest 77th Avenue\, Miami Lakes
 \, FL\, USA. This workshop delves into the powerful synergy between mindfu
 l skincare and meditation\, offering techniques to nourish both your skin 
 and soul.\nPersonalized Skincare and Meditation Techniques\nGuided by expe
 rts\, participants will learn personalized skincare routines designed to e
 nhance skin health and vitality. Additionally\, meditation techniques aime
 d at reducing stress and promoting overall well-being will be introduced. 
 These practices will provide practical tools to integrate mindfulness into
  daily self-care\, fostering harmony between mind\, body\, and skin.\nHoli
 stic Beauty and Wellness Experie\nEmbrace a holistic approach to beauty an
 d wellness. The workshop includes:\n\n 	Goody Tote Bag: Each participant w
 ill receive a goody tote bag from Eddy Skin\, featuring their best-selling
  retinol serum and other surprise wellness goodies.\n 	Sound Bowl Meditati
 on: Conclude the session with a relaxing sound bowl meditation\, designed 
 to deepen your state of relaxation and inner peace.\n 	Grazing Table: Enjo
 y a grazing table filled with delicious treats\, complemented by a collage
 n drink to support skin health from within.\n\nEmbrace Inner Peace and Out
 er Radiance\nThis workshop is more than just a skincare session\; it is a 
 journey towards inner peace and outer radiance. By integrating mindfulness
  and self-care\, participants will leave feeling rejuvenated and empowered
  to maintain harmony in their daily lives.\n\nJoin us for this unique beau
 ty and wellness experience\, where you can cultivate a radiant mind and ra
 diant skin\, and walk away with practical tools to sustain your newfound g
 low.\n\nGET TICKETS\n
ATTACH;FMTTYPE=image/jpeg:https://breathemiami.us/wp-content/uploads/2024/
 06/Radiant-Mind-Radiant-Skin-A-Workshop-on-Mindful-Skincare-and-Meditation
 .jpg
LOCATION:14575 Northwest 77th Avenue\, 14575 Northwest 77th Avenue Miami La
 kes\, Miami Beach\, FL\, 33014\, United States
X-APPLE-STRUCTURED-LOCATION;VALUE=URI;X-ADDRESS=14575 Northwest 77th Avenue
  Miami Lakes\, Miami Beach\, FL\, 33014\, United States;X-APPLE-RADIUS=100
 ;X-TITLE=14575 Northwest 77th Avenue:geo:0,0
END:VEVENT
BEGIN:VTIMEZONE
TZID:America/New_York
X-LIC-LOCATION:America/New_York
BEGIN:DAYLIGHT
DTSTART:20240310T030000
TZOFFSETFROM:-0500
TZOFFSETTO:-0400
TZNAME:EDT
END:DAYLIGHT
END:VTIMEZONE
END:VCALENDAR