BEGIN:VCALENDAR
VERSION:2.0
PRODID:-//wp-events-plugin.com//7.2.3.1//EN
TZID:America/New_York
X-WR-TIMEZONE:America/New_York
BEGIN:VEVENT
UID:536@breathemiami.us
DTSTART;TZID=America/New_York:20240620T190000
DTEND;TZID=America/New_York:20240620T210000
DTSTAMP:20240609T023151Z
URL:https://breathemiami.us/events/quantum-healing-hypnosis-sound-immersio
 n/
SUMMARY:QUANTUM HEALING: Hypnosis & Sound Immersion
DESCRIPTION:Discover profound comfort and healing through transformative so
 und baths and hypnotic experiences. This unique session combines captivati
 ng melodies with deep relaxation\, creating a powerful healing journey.\nE
 nveloped by Soothing Melodies\nParticipants are enveloped by soothing melo
 dies\, dissolving tension and embracing body and mind with tranquility. Th
 is serene atmosphere facilitates deep relaxation and stress reduction.\nSy
 nergy of Sound and Hypnosis\nExperience heightened mindfulness through the
  synergy of sound and hypnosis\, promoting mental clarity and emotional ba
 lance. This holistic approach nurtures overall well-being.\nBenefits Beyon
 d Relaxation\nBeyond relaxation\, participants often see improved sleep pa
 tterns\, eased physical discomfort\, and nurtured creativity. The blend of
  sound and hypnosis supports restful sleep and rejuvenation.\nAchieve Pers
 onal Goals\nThis state of deep relaxation aids in achieving personal objec
 tives\, whether alleviating stress\, enhancing creativity\, or finding pea
 ce.\n\nJoin us for Quantum Healing: Hypnosis &amp\; Sound Immersion and em
 bark on a journey of healing and self-discovery. Let harmonious melodies a
 nd hypnotic guidance lead you to deep relaxation and renewed vitality.\n\n
 GET TICKETS\n
ATTACH;FMTTYPE=image/jpeg:https://breathemiami.us/wp-content/uploads/2024/
 06/QUANTUM-HEALING-Hypnosis-Sound-Immersion.jpg
CATEGORIES:Mindfulness Events,Wellness Events
LOCATION:Tantra Studios\, 390 Northeast 59th Terrace Miami\, Miami Beach\, 
 Florida\, 33137 \,  FL \, United States
X-APPLE-STRUCTURED-LOCATION;VALUE=URI;X-ADDRESS=390 Northeast 59th Terrace 
 Miami\, Miami Beach\, Florida\, 33137 \,  FL \, United States;X-APPLE-RADI
 US=100;X-TITLE=Tantra Studios:geo:0,0
END:VEVENT
BEGIN:VTIMEZONE
TZID:America/New_York
X-LIC-LOCATION:America/New_York
BEGIN:DAYLIGHT
DTSTART:20240310T030000
TZOFFSETFROM:-0500
TZOFFSETTO:-0400
TZNAME:EDT
END:DAYLIGHT
END:VTIMEZONE
END:VCALENDAR