BEGIN:VCALENDAR
VERSION:2.0
PRODID:-//wp-events-plugin.com//7.2.3.1//EN
TZID:America/New_York
X-WR-TIMEZONE:America/New_York
BEGIN:VEVENT
UID:861@breathemiami.us
DTSTART;TZID=America/New_York:20240929T150000
DTEND;TZID=America/New_York:20240929T170000
DTSTAMP:20240910T201308Z
URL:https://breathemiami.us/events/pumpkin-painting-paint-sip/
SUMMARY:Pumpkin Painting Paint & Sip
DESCRIPTION:Step into a world of autumnal creativity at the Pumpkin Paintin
 g Paint &amp\; Sip event\, hosted at Barrel of Monks Brewing in Boca Raton
 \, FL. This exciting gathering invites art enthusiasts and casual creators
  alike to enjoy an afternoon filled with artistic expression and refreshin
 g beverages.\n\nOn the scheduled day\, participants will be provided with 
 a pumpkin\, ready to be transformed into a work of art. Attendees are enco
 uraged to unleash their imagination with paintbrushes in hand\, as they cr
 aft their unique pumpkin masterpieces. Whether someone is a seasoned artis
 t or new to painting\, this event offers a welcoming space for all skill l
 evels to explore their creativity.\n\nAs you paint\, savor a selection of 
 Barrel of Monks’ exceptional craft beers\, enhancing the experience with
  flavorful sips. This event is the perfect way to immerse oneself in the H
 alloween spirit\, enjoying a blend of artistic fun and socializing with fr
 iends and family.\n\nDetails:\n\n 	Location: Barrel of Monks Brewing\, Boc
 a Raton\, FL\, USA\n 	Event Highlights:\n\n 	Pumpkin and Paint Supplies Pr
 ovided: No need to bring your own materials\; everything required for pain
 ting will be available.\n 	Craft Beer: Enjoy a variety of craft beers whil
 e you create.\n 	Inclusive Atmosphere: Suitable for all ages and skill lev
 els.\n\n\n\nMark your calendars for this delightful afternoon of painting 
 and sipping. It’s a fantastic opportunity to celebrate the Halloween sea
 son in a creative and festive setting. We look forward to seeing you there
 !\n\nGET TICKETS\n
ATTACH;FMTTYPE=image/jpeg:https://breathemiami.us/wp-content/uploads/2024/
 09/Pumpkin-Painting-Paint-Sip.jpg
CATEGORIES:Things To Do
LOCATION:Barrel of Monks Brewing\, 1141 South Rogers Circle ##5 Boca Rato\,
  Miami\, Florida\, 33324\, FL\, United States
X-APPLE-STRUCTURED-LOCATION;VALUE=URI;X-ADDRESS=1141 South Rogers Circle ##
 5 Boca Rato\, Miami\, Florida\, 33324\, FL\, United States;X-APPLE-RADIUS=
 100;X-TITLE=Barrel of Monks Brewing:geo:0,0
END:VEVENT
BEGIN:VTIMEZONE
TZID:America/New_York
X-LIC-LOCATION:America/New_York
BEGIN:DAYLIGHT
DTSTART:20240310T030000
TZOFFSETFROM:-0500
TZOFFSETTO:-0400
TZNAME:EDT
END:DAYLIGHT
END:VTIMEZONE
END:VCALENDAR