BEGIN:VCALENDAR
VERSION:2.0
PRODID:-//wp-events-plugin.com//7.2.3.1//EN
TZID:America/New_York
X-WR-TIMEZONE:America/New_York
BEGIN:VEVENT
UID:1285@breathemiami.us
DTSTART;TZID=America/New_York:20250315T160000
DTEND;TZID=America/New_York:20250315T173000
DTSTAMP:20250226T111323Z
URL:https://breathemiami.us/events/private-sound-bath-hypnotic-relaxation-
 experience-at-miami-beach/
SUMMARY:Private Sound Bath & Hypnotic Relaxation Experience at Miami Beach
DESCRIPTION:Step into a world of tranquility and deep healing with Nesli’
 s Private Sound Bath and Hypnotic Relaxation Experience—a bespoke sessio
 n designed to nurture the mind\, body\, and spirit. Whether celebrating a 
 special occasion\, organizing a corporate retreat\, or simply seeking an i
 mmersive wellness experience\, this session is tailored to create lasting 
 memories and profound relaxation.\nFor more details\, visit Nesli.TV.\nWha
 t to Expect from Your Private Sound Bath\nA Customizable Wellness Experien
 ce\nEach private sound bath is thoughtfully designed to align with the the
 me and atmosphere of your event. Whether it’s a birthday\, wedding\, bac
 helorette party\, or corporate gathering\, Nesli curates personalized elem
 ents such as ambient lighting\, floral arrangements\, fruit platters\, and
  soothing music to elevate the experience. Every detail is carefully orche
 strated to foster relaxation and make your event truly unforgettable.\nFle
 xible Location Options\nChoose the ideal setting for your private session.
  Whether you envision the gentle waves of Miami Beach as your backdrop or 
 prefer the intimacy of your own space\, Nesli offers the flexibility to br
 ing this transformative experience to your desired location.\nA Fusion of 
 Holistic Healing Modalities\nThis immersive session incorporates a combina
 tion of sound bath therapy\, hypnosis\, tapping\, yin yoga\, and breathwor
 k—a powerful synergy that helps release stress\, remove energetic blocka
 ges\, and promote emotional healing. As sound vibrations wash over the bod
 y\, the hypnotic guidance facilitates deeper relaxation and mental clarity
 .\nOptional Enhancements for a Deeper Experience\n\n 	Yoga Add-ons: Comple
 ment the sound bath with gentle yin yoga or breathwork practices to enhanc
 e balance and inner peace.\n 	Sensory Enhancements: Create a visually stun
 ning and multisensory experience with beautifully arranged fruit platters 
 and floral decor.\n 	Professional Photography: Preserve the beauty of the 
 moment with an optional photography package\, ensuring cherished memories 
 of this one-of-a-kind experience.\n\nWhy Choose a Private Sound Bath?\n\n 
 	Personalized for Your Unique Intentions: Whether celebrating a milestone 
 or seeking deep relaxation\, each session is customized to meet your needs
 .\n 	Perfect for Any Occasion: From intimate gatherings to professional we
 llness events\, a sound bath serves as an enriching and rejuvenating exper
 ience.\n 	Unforgettable Ambiance: Immerse your guests in an atmosphere of 
 peace and serenity\, combining the power of sound therapy with a customize
 d setting for ultimate relaxation.\n\nEvent Details\n\n 	Location: Session
 s are held at 79th Street Beach\, or at a venue of your choice. Select the
  appropriate option during booking.\n 	Preferred Time: For beach sessions\
 , sunrise or sunset is ideal to align with natural rhythms. If held at a p
 rivate venue\, additional time slots are available.\n 	What to Bring: Gues
 ts are encouraged to bring a yoga mat or towel\, a blanket or warm clothin
 g\, and wear comfortable attire. Hydration is also recommended.\n\nBook Yo
 ur Private Experience Today\nReady to embark on a transformative journey? 
 Reserve your personalized Private Sound Bath and Hypnotic Relaxation Exper
 ience today.\n\nFor inquiries\, customizations\, or bookings\, reach out d
 irectly to Nesli at 646-494-2866 or explore more options at Nesli.TV.\n\nL
 ooking for a group experience? Join Nesli’s Sunset Sound Bath &amp\; Hyp
 notic Healing Event at Miami Beach and discover the profound benefits of s
 ound and hypnosis by the ocean.\n\nImmerse\, relax\, and transform with th
 e healing power of sound.\n\nGET TICKETS\n
ATTACH;FMTTYPE=image/jpeg:https://breathemiami.us/wp-content/uploads/2025/
 02/Private-Sound-Bath-Hypnotic-Relaxation-Experience-at-Miami-Beach.avif
CATEGORIES:Wellness Events
LOCATION:4th Street Lifeguard Tower\, 401 Ocean Drive\, Miami Beach\, Flori
 da\, 33139\, FL\, United States
X-APPLE-STRUCTURED-LOCATION;VALUE=URI;X-ADDRESS=401 Ocean Drive\, Miami Bea
 ch\, Florida\, 33139\, FL\, United States;X-APPLE-RADIUS=100;X-TITLE=4th S
 treet Lifeguard Tower:geo:0,0
END:VEVENT
BEGIN:VTIMEZONE
TZID:America/New_York
X-LIC-LOCATION:America/New_York
BEGIN:DAYLIGHT
DTSTART:20250309T030000
TZOFFSETFROM:-0500
TZOFFSETTO:-0400
TZNAME:EDT
END:DAYLIGHT
END:VTIMEZONE
END:VCALENDAR