BEGIN:VCALENDAR
VERSION:2.0
PRODID:-//wp-events-plugin.com//7.2.3.1//EN
TZID:America/New_York
X-WR-TIMEZONE:America/New_York
BEGIN:VEVENT
UID:945@breathemiami.us
DTSTART;TZID=America/New_York:20241025T190000
DTEND;TZID=America/New_York:20241025T213000
DTSTAMP:20241002T145132Z
URL:https://breathemiami.us/events/primal-sacred-sound-healing-journey-by-
 david-kennet/
SUMMARY:Primal Sacred Sound Healing Journey by David Kennet
DESCRIPTION:Step into a transformative experience with the Primal Sacred So
 und Healing Journey\, an interactive event designed to reconnect you with 
 your inner essence and unlock your healing potential. Guided by David Kenn
 et\, a renowned musician\, voice coach\, and holistic healer\, this journe
 y encourages you to embrace the power of your voice as a tool for self-dis
 covery and transformation.\n\nThis 2.5-hour immersive sound healing worksh
 op offers a unique opportunity to explore your Core Sound—the harmonics 
 that resonate deep within\, connecting you to your heart and unlocking you
 r highest potential. Through a blend of vocal activation and sacred sound 
 techniques\, participants will learn how to scan the body for energetic im
 balances\, rewire subconscious beliefs\, and tap into the profound healing
  power of sound.\n\nDuring the workshop\, David will guide you through:\n\
 n 	Core Sound Activation – Uncover and connect with your unique vocal ha
 rmonics\, aligning with your center and unleashing your innate healing abi
 lities.\n 	Reprogramming Through Sound – Use sound to shift limiting sub
 conscious beliefs\, opening pathways to personal success and growth.\n 	En
 ergetic Body Scanning – Learn to use your voice to detect and address en
 ergetic imbalances within the body.\n 	Sacred Vocal Harmonics – Explore 
 the ancient art of creating vocal harmonics that promote healing and inner
  balance.\n\nFollowing the voice activation\, David will lead a live\, imp
 rovised sound journey designed to both relax and revitalize you\, allowing
  you to shed emotional layers and reclaim your personal power. This is mor
 e than just a sound bath—it is an invitation to fully step into your aut
 hentic self\, harness the healing vibrations of sound\, and transform your
  life from the inside out.\n\nTo enhance your comfort\, participants are e
 ncouraged to bring yoga mats\, blankets\, or cushions to create a personal
  sacred space. Dress in comfortable clothing to fully relax and enjoy the 
 journey.\n\nDavid Kennet brings over 25 years of experience in sound heali
 ng and has performed worldwide\, sharing his knowledge across Europe\, Rus
 sia\, China\, and beyond. His own healing journey began when regular singi
 ng helped him recover from severe chronic asthma. David has since made his
  mark as a voice coach\, healer\, and performer\, having appeared at New Y
 ork’s Lincoln Center and on platforms like MTV and NBC’s The Today Sho
 w. He has studied under renowned sound healers and lectured on sound thera
 py at prestigious institutions.\n\nThis is a special event that sells out 
 quickly\, so reserve your spot early. Please arrive 10 minutes before the 
 session starts and bring a bottle of water.\n\nLocation: Tantra Studios\nC
 ontact: For more information\, call or text 305-992-0754\nWebsite: www.Tan
 tra-Studios.com\nInstagram: @tantra_studios\nFree Parking Available\n\nDon
 't miss the chance to embark on this sacred journey of self-healing\, empo
 werment\, and transformation. Prepare to unlock the extraordinary power of
  your voice and reclaim your true essence!\n\nGET TICKETS\n
ATTACH;FMTTYPE=image/jpeg:https://breathemiami.us/wp-content/uploads/2024/
 10/PRIMAL-SACRED-SOUND-HEALING-JOURNEY-by-David-Kennet.jpg
CATEGORIES:Wellness Events
LOCATION:Tantra Studios\, 390 Northeast 59th Terrace\, Miami\, Florida\, 33
 137\, FL\, United States
X-APPLE-STRUCTURED-LOCATION;VALUE=URI;X-ADDRESS=390 Northeast 59th Terrace\
 , Miami\, Florida\, 33137\, FL\, United States;X-APPLE-RADIUS=100;X-TITLE=
 Tantra Studios:geo:0,0
END:VEVENT
BEGIN:VTIMEZONE
TZID:America/New_York
X-LIC-LOCATION:America/New_York
BEGIN:DAYLIGHT
DTSTART:20240310T030000
TZOFFSETFROM:-0500
TZOFFSETTO:-0400
TZNAME:EDT
END:DAYLIGHT
END:VTIMEZONE
END:VCALENDAR