BEGIN:VCALENDAR
VERSION:2.0
PRODID:-//wp-events-plugin.com//7.2.3.1//EN
TZID:America/New_York
X-WR-TIMEZONE:America/New_York
BEGIN:VEVENT
UID:411@breathemiami.us
DTSTART;TZID=America/New_York:20240404T063000
DTEND;TZID=America/New_York:20240404T083000
DTSTAMP:20240908T154238Z
URL:https://breathemiami.us/events/pride-lights-the-night-on-lincoln-road/
SUMMARY:Pride Lights The Night on Lincoln Road
DESCRIPTION:Join Us for a Night of Art and Celebration on Lincoln Road!\n\n
 Date: April 4\, 2024\n\nLocation: Lincoln Road\, Miami Beach\n\nPRIDE 247 
 x Pride Lights The Night:\n\n 	Time: 7:30 p.m.\n 	Details: Let's kick off 
 this year's International Pride festivities in style! Join us for the unve
 iling of our newest public art installation\, "PRIDE247\," created by the 
 talented Miami-based artist collaboration AMLgMATD. This captivating insta
 llation\, inspired by the LGBTQ pride flag\, will weave its colorful web t
 hrough the palm trees of Lincoln Road's Euclid Oval\, serving as a powerfu
 l symbol of unity and acceptance. We'll also honor the memory of the Pulse
  Nightclub and Club Q shootings with our annual lighting ceremony\, Pride 
 Lights the Night. Don't miss this opportunity to come together as a commun
 ity and celebrate love\, diversity\, and resilience.\n\nGrand Opening of #
 ThePopCollection Exhibition:\n\n 	Time: 6:30-8:30 p.m.\n 	Location: Bel-Ai
 r Fine Art Pop-Up Gallery on Lincoln Road\n 	Details: Get ready to immerse
  yourself in a world of pop culture and nostalgia! Join us at the grand op
 ening cocktail reception of our latest exhibition\, #ThePopCollection\, fe
 aturing the incredible work of French artist Peppone. From iconic cartoon 
 characters to beloved movie classics\, Peppone's sculptures and paintings 
 capture the essence of our favorite childhood memories. Join us as we toas
 t to creativity and artistic expression\, surrounded by the vibrant energy
  of Lincoln Road.\n\nAdmission: Free and open to the public.\n\nDon't miss
  out on this unforgettable evening of art\, culture\, and community. See y
 ou there!\n\n\n\n\n\n&nbsp\;
ATTACH;FMTTYPE=image/jpeg:https://breathemiami.us/wp-content/uploads/2024/
 04/DJI_0787-scaled.jpg
CATEGORIES:Featured Events,Things To Do
LOCATION:Lincoln Road\, Miami Beach\, Miami\, Florida\, United States
X-APPLE-STRUCTURED-LOCATION;VALUE=URI;X-ADDRESS=Miami Beach\, Miami\, Flori
 da\, United States;X-APPLE-RADIUS=100;X-TITLE=Lincoln Road:geo:0,0
END:VEVENT
BEGIN:VTIMEZONE
TZID:America/New_York
X-LIC-LOCATION:America/New_York
BEGIN:DAYLIGHT
DTSTART:20240310T030000
TZOFFSETFROM:-0500
TZOFFSETTO:-0400
TZNAME:EDT
END:DAYLIGHT
END:VTIMEZONE
END:VCALENDAR