BEGIN:VCALENDAR
VERSION:2.0
PRODID:-//wp-events-plugin.com//7.2.3.1//EN
TZID:America/New_York
X-WR-TIMEZONE:America/New_York
BEGIN:VEVENT
UID:87@breathemiami.us
DTSTART;TZID=America/New_York:20231011T193000
DTEND;TZID=America/New_York:20231011T210000
DTSTAMP:20240218T004829Z
URL:https://breathemiami.us/events/presencia-with-nilo-del-monte/
SUMMARY:Presencia with Nilo del Monte
DESCRIPTION:Find Presence in this musical and meditative program created by
  artist Nilo del Monte exclusively for Modern ŌM\nJoin an empowering con
 scious gathering with artist Nilo del Monte called "Presencia." recurring 
 evening that combines Medicine and Conscious Music\, meditative experience
 s\, insightful conversations\, and community connection.\n\nExpect Nilo to
  guide you on a meditative and transformative musical journey. The evening
  will also feature conscious talks on human and spiritual development. It'
 s a space where like-minded individuals can connect in presence\, engage i
 n meaningful conversations\, and support each other on their journey towar
 ds personal and collective evolution.\n\n\nGET TICKETS\n\n\n⭐️ Who: N
 ilo del Monte is a Cuban singer\, songwriter\, producer\, and multi-instru
 mentalist based in Miami\, Florida. A conscious artist who\, with his pecu
 liar voice and expressive stage presence\, transmits a unique energy that 
 pierces the skin and touches the hearts of those who stop to listen to him
 . Intentionally\, through his art and talks\, he brings to the surface dif
 ferent topics that he manages to mix in a very interesting way. Such as: w
 hat it means for him to be a Conscious and Loving Human being\, personal g
 rowth\, mindfulness\, and spiritual development. For Nilo\, being a consci
 ous artist comes with the responsibility to leave the world better and to 
 contribute positively to human evolution.\n\n🏡 Where: The Modern ŌM B
 ungalow\, the clubhouse for Miami’s mindful community. 5020 NE 2nd Ave\,
  Miami\, FL 33137.\n\n🚙 Parking: There is metered parking alongside th
 e streets of Upper Buena Vista on NE 2nd Avenue as well as NE 50th Terrace
 . Do NOT park in residential zone - they do tow.\n\n✅ Bring: A refillab
 le water bottle and an open heart.\n\n🎟 Tickets: Registration is Early
  Bird or General Admission\n\n🧘🏽‍♂️ Exclusive Rates for Membe
 rs: Click to explore the benefits and join a plan.\n\n 	ŌMIE PLAN / $49
  per year - 10% off this session\n 	PRACTICE PLAN / $99 per month - 10% o
 ff this session\n 	ACCESS PLAN / $199 per month - 10% off is included\n\n
 ✈️ Mindful Miles™️: Get rewarded for your spiritual practice. All
  Members are enrolled into our “frequent flier” program for our Miami 
 events.\n\n 	Every 10MM you earn\, receive a reward to celebrate your prac
 tice\n 	Every 25MM you earn\, receive a MM status upgrade\, which comes wi
 th valuable perks\n\n💻 Online Resources: If you cannot join us in per
 son\, we have the following online resources available.\n\n 	Modern Medi C
 lub - a friendly donation-based online meditation studio with classes dai
 ly at 8am\, 10am\, and 8pm. This online studio is FREE to join and can be 
 joined separately from Miami plans.\n 	Cushion Crawl On-Demand - 500 video
 s that were recorded over a period of 3 years by 120+ world-class facilita
 tors. Access to this Content Library is given with all Miami plans.\n\nABO
 UT MODERN ŌM\n\nModern ŌM has been connecting community to world-class 
 spiritual wellness programs since 2016. Our offerings include 30+ Miami ev
 ent monthly\, retreats\, trainings\, online meditations via the Modern Med
 i Club\, and branded merchandise.\n\nConsider us your resource for spiritu
 al wellness. We support an ever-evolving community of entrepreneurs\, prof
 essionals\, and creatives that prioritize their spiritual well-being. Join
  us in Miami and beyond.\n\n📲 Follow us: Eventbrite I InstagramI T
 ikTok I Miami Telegram\n\nCOMMUNITY PRAISE\n\n"I love the community\, I 
 love the vibe of Modern ŌM!!" - Seema\n\n"I highly recommend this members
 hip - you will not regret it!" - Nadine\n\n“You can really tell Modern 
 ŌM truly truly cares about its community and the conscious evolution of i
 ts members. Thank you!” - Alessandra\n\n[embed]https://youtu.be/Y9y6IVUD
 LDc[/embed]\n\n\n\n
ATTACH;FMTTYPE=image/jpeg:https://breathemiami.us/wp-content/uploads/2023/
 10/presencia-with-nilo-del-monte.jpeg
CATEGORIES:Mindfulness Events,Things To Do,Wellness Events,Yoga Events
LOCATION:Modern ŌM Bungalow\, 5020 Northeast 2nd Avenue\, Miami\, FL\, 331
 37\, United States
X-APPLE-STRUCTURED-LOCATION;VALUE=URI;X-ADDRESS=5020 Northeast 2nd Avenue\,
  Miami\, FL\, 33137\, United States;X-APPLE-RADIUS=100;X-TITLE=Modern ŌM 
 Bungalow:geo:0,0
END:VEVENT
BEGIN:VTIMEZONE
TZID:America/New_York
X-LIC-LOCATION:America/New_York
BEGIN:DAYLIGHT
DTSTART:20230312T030000
TZOFFSETFROM:-0500
TZOFFSETTO:-0400
TZNAME:EDT
END:DAYLIGHT
END:VTIMEZONE
END:VCALENDAR