BEGIN:VCALENDAR
VERSION:2.0
PRODID:-//wp-events-plugin.com//7.2.3.1//EN
TZID:America/New_York
X-WR-TIMEZONE:America/New_York
BEGIN:VEVENT
UID:203@breathemiami.us
DTSTART;TZID=America/New_York:20231207T193000
DTEND;TZID=America/New_York:20231207T210000
DTSTAMP:20231228T215951Z
URL:https://breathemiami.us/events/presencia-with-nilo-del-monte-in-miami/
SUMMARY:Presencia with Nilo del Monte
DESCRIPTION:Event Information:\n\nEmbark on a transformative journey of pre
 sence through the harmonies of a musical and meditative program crafted ex
 clusively for you by the artist Nilo del Monte. Join us for an immersive e
 xperience\, carefully designed to bring you into the present moment\, as N
 ilo's artistic expression creates a unique blend of mindfulness and melody
 . This special event\, titled "Presencia\," is a doorway to a space where 
 music meets meditation\, offering a soulful exploration of the present mom
 ent\, curated exclusively for the Modern ŌM community.\n\nDate and Time:T
 hursday\, December 7 · 7:30 - 9pm EST\n\nAbout this event:\n\n 	Join Nilo
  del Monte for "Presencia\," a musical and meditative program exclusively 
 created for Modern ŌM.\n 	Experience medicine music\, meditative journeys
 \, conscious conversations\, and community connection.\n 	Nilo will guide 
 attendees through a special sonic journey\, creating a transformative and 
 meditative experience.\n 	The event includes conscious talks on personal g
 rowth\, mindfulness\, and spiritual development.\n 	A space for like-minde
 d individuals to connect\, grow together\, engage in meaningful conversati
 ons\, and support each other's journey towards personal and collective evo
 lution.\n\nDuration: 1 hour\n\nTicket Information:\n\n 	Ticket Type: Mobil
 e eTicket\n 	Registration Options: Early Bird or General Admission\n\n\nGE
 T TICKETS\n\n\nWorkout Session Details:\n\n 	Facilitator: Nilo del Monte\,
  Cuban singer\, songwriter\, producer\, and multi-instrumentalist.\n 	Dura
 tion: 1 hour 30 minutes\n\nEssentials to Bring:\n\n 	Refillable water bott
 le\n 	Open heart\n\nParking Options:\n\n 	Metered parking is available alo
 ngside the streets of Upper Buena Vista on NE 2nd Avenue.\n 	Additional me
 tered parking can be found on NE 50th Terrace.\n\n\n
ATTACH;FMTTYPE=image/jpeg:https://breathemiami.us/wp-content/uploads/2023/
 12/https___cdn.evbuc_.com_images_650602869_159787839700_1_original.jpg
CATEGORIES:Wellness Events,Yoga Events
LOCATION:Modern ŌM Bungalow\, 5020 Northeast 2nd Avenue Miami\, Avenue Mia
 mi\, FL\, 33137\, United States
X-APPLE-STRUCTURED-LOCATION;VALUE=URI;X-ADDRESS=5020 Northeast 2nd Avenue M
 iami\, Avenue Miami\, FL\, 33137\, United States;X-APPLE-RADIUS=100;X-TITL
 E=Modern ŌM Bungalow:geo:0,0
END:VEVENT
BEGIN:VTIMEZONE
TZID:America/New_York
X-LIC-LOCATION:America/New_York
BEGIN:STANDARD
DTSTART:20231105T010000
TZOFFSETFROM:-0400
TZOFFSETTO:-0500
TZNAME:EST
END:STANDARD
END:VTIMEZONE
END:VCALENDAR