BEGIN:VCALENDAR
VERSION:2.0
PRODID:-//wp-events-plugin.com//7.2.3.1//EN
TZID:America/New_York
X-WR-TIMEZONE:America/New_York
BEGIN:VEVENT
UID:294@breathemiami.us
DTSTART;TZID=America/New_York:20240128T080000
DTEND;TZID=America/New_York:20240128T160000
DTSTAMP:20231227T204242Z
URL:https://breathemiami.us/events/poise-wellness-charity-experience/
SUMMARY:POISE Wellness Charity Experience
DESCRIPTION:Event Information:\n\n\n\n\n\n\n\n\n\n\n\n\n\nWelcome to an inc
 lusive ecosystem designed to seamlessly connect you with a diverse array o
 f individuals\, including doctors\, founders\, military personnel\, athlet
 es\, investors\, and charitable organizations. At the heart of this dynami
 c network lies a collective commitment to experiencing and discussing well
 ness in all its dimensions. Join us as we foster a collaborative environme
 nt where expertise\, passion\, and purpose converge to create a meaningful
  and inclusive experience for all.\n\n\n\n\n\n\n\n\n\n\n\n\n\nDate and Tim
 e:Sunday\, January 28\, 2024 · 8am - 4pm PST\n\nAbout this event:\n\n 	We
 lcome to the POISE Wellness Charity Experience—an inclusive ecosystem de
 signed to connect individuals with doctors\, founders\, military personnel
 \, athletes\, creators\, investors\, and philanthropists\, all while suppo
 rting various charities. This dynamic and collaborative event aims to enha
 nce the quality of life and mental well-being by offering diverse wellness
  modalities\, all for a meaningful cause.\n\nTotal Duration: 8 hour\n\nTic
 ket Information:\n\n 	Ticket Availability: Limited tickets are available\,
  so secure yours promptly to be part of this transformative event.\n 	Pric
 e: Gain access to the inclusive ecosystem by purchasing your ticket at a c
 ompetitive price.\n\n\nGET TICKETS\n\n\nWorkout Session Details:\n\n 	Emba
 rk on an enriching wellness journey with a variety of sessions led by expe
 rts in the field. Connect\, learn\, and experience different wellness moda
 lities that contribute to a holistic approach to health and well-being.\n\
 nEssentials to Bring:\n\n 	Prepare for a day of connection and wellness by
  bringing the essentials:\n\n 	Comfortable attire suitable for various act
 ivities\n 	Water bottle to stay hydrated\n 	Note-taking materials for any 
 insights gained\n 	Open mind and enthusiasm for a collaborative wellness e
 xperience\n\n\n\nParking Options:\n\n 	The event is hosted at a Secret Loc
 ation in Los Angeles\, CA 90232. Please refer to the map provided and plan
  your transportation accordingly.\n
ATTACH;FMTTYPE=image/jpeg:https://breathemiami.us/wp-content/uploads/2023/
 12/https___cdn.evbuc_.com_images_650764789_757411645333_1_original.jpg
CATEGORIES:Wellness Events
LOCATION:POISE Wellness Charity Experience\, Secret Location Los Angeles\, 
 \, Angeles\, United States\,  90232 \, CA\, United States
X-APPLE-STRUCTURED-LOCATION;VALUE=URI;X-ADDRESS=Secret Location Los Angeles
 \, \, Angeles\, United States\,  90232 \, CA\, United States;X-APPLE-RADIU
 S=100;X-TITLE=POISE Wellness Charity Experience:geo:0,0
END:VEVENT
BEGIN:VTIMEZONE
TZID:America/New_York
X-LIC-LOCATION:America/New_York
BEGIN:STANDARD
DTSTART:20231105T010000
TZOFFSETFROM:-0400
TZOFFSETTO:-0500
TZNAME:EST
END:STANDARD
END:VTIMEZONE
END:VCALENDAR